BEGIN:VCALENDAR
VERSION:2.0
PRODID:-//The Crescent Bar - ECPv6.15.20//NONSGML v1.0//EN
CALSCALE:GREGORIAN
METHOD:PUBLISH
X-ORIGINAL-URL:https://crescentlounge.co.uk
X-WR-CALDESC:Events for The Crescent Bar
REFRESH-INTERVAL;VALUE=DURATION:PT1H
X-Robots-Tag:noindex
X-PUBLISHED-TTL:PT1H
BEGIN:VTIMEZONE
TZID:UTC
BEGIN:STANDARD
TZOFFSETFROM:+0000
TZOFFSETTO:+0000
TZNAME:UTC
DTSTART:20250101T000000
END:STANDARD
END:VTIMEZONE
BEGIN:VEVENT
DTSTART;TZID=UTC:20260911T190000
DTEND;TZID=UTC:20260911T230000
DTSTAMP:20260422T232215
CREATED:20260414T121142Z
LAST-MODIFIED:20260414T121143Z
UID:10001401-1789153200-1789167600@crescentlounge.co.uk
SUMMARY:An Evening with Chris & Tony Griffiths from The Real People Acoustic
DESCRIPTION:The Real People were formed by Tony and Chris Griffiths in 1988. Signed to CBS in Dec 1989 they released their eponymously named debut album including the singles Window Pane\, Open Up Your Mind and The Truth in 1991. The band then embarked on a series of successful British\, European\, American and Japanese tours\, also appearing at Glastonbury and supporting major artists such as The Pixies\, David Bowie and Inspiral Carpets to name a few. \nThe Realies (as they are known to their fans) then recorded their second album Marshmallow Lane with the help of legendary producer Jimmy Miller (Rolling Stones etc). This album provided the Top 40 single ‘Believer’. Whilst touring with Inspiral Carpets\, Chris and Tony took the then Inspirals roadie Noel Gallagher under their wing\, along with his brother Liam and the rest of Oasis. The Real People invited Oasis into their studio to develop and record the new band\, resulting in the now famous Live Demonstration Tape which subsequently secured them a major deal with Alan McGee and Creation Records. Once signed by Creation\, Chris and Tony were instrumental in the recording of Oasis’ first single ‘Supersonic’\, with Tony providing the backing vocals. Chris also co-wrote the B-side to ‘Roll With It’ entitled ‘Rockin’ Chair’ which helped set Oasis on the path to becoming world wide stars and the biggest band of the past 30 years. The Real People also inspired several other Oasis songs such as ‘Columbia’ and ‘Don’t Go Away’. Around this time Chris and Tony continued writing and developing other artists – including writing a Top 10 single for Cher and others. \nIn 1996 The Real People signed to MGL Records and released their third album ‘What’s On The Outside’ which included the singles ‘Rolling Stone’\, ‘Rayners Lane’ and ’People In The Telly’. The band also embarked on tours including numerous tours with their good friends Ocean Colour Scene\, Paul Weller and Simple Minds. The Real People continued writing and touring for the next few years resulting in their now cult following and new albums ’Think Positive’ and ‘Monday Morning Breakdown’. \nThe Realies continue to write\, record and tour and this forthcoming tour ‘An Evening With….’ provides a very rare chance for fans old and new to see them perform their back catalogue in stripped down acoustic versions and hear some of the stories behind the songs. If you haven’t heard The Realies before\, you really should. But don’t take my word for it – please read recent Jon Robb article setting out why The Real People are one of the most respected and influential bands of the past 35 years. https://louderthanwar.com/the-real-people-live-review/#google_vignette \nSupport TBA
URL:https://crescentlounge.co.uk/event/an-evening-with-chris-tony-griffiths-from-the-real-people-acoustic/
LOCATION:The Crescent Lounge\, The Crescent Lounge\, Scarborough\, North Yorkshire\, YO11 2PW\, United Kingdom
CATEGORIES:In conversation with...,Live Music
ATTACH;FMTTYPE=image/jpeg:https://crescentlounge.co.uk/wp-content/uploads/2026/04/The-Real-People-acoustic-tour-poster-2026-colour-scaled.jpg
END:VEVENT
END:VCALENDAR