BEGIN:VCALENDAR
VERSION:2.0
PRODID:-//The Crescent Bar - ECPv6.15.20//NONSGML v1.0//EN
CALSCALE:GREGORIAN
METHOD:PUBLISH
X-ORIGINAL-URL:https://crescentlounge.co.uk
X-WR-CALDESC:Events for The Crescent Bar
REFRESH-INTERVAL;VALUE=DURATION:PT1H
X-Robots-Tag:noindex
X-PUBLISHED-TTL:PT1H
BEGIN:VTIMEZONE
TZID:UTC
BEGIN:STANDARD
TZOFFSETFROM:+0000
TZOFFSETTO:+0000
TZNAME:UTC
DTSTART:20240101T000000
END:STANDARD
END:VTIMEZONE
BEGIN:VEVENT
DTSTART;TZID=UTC:20251002T200000
DTEND;TZID=UTC:20251002T220000
DTSTAMP:20260423T014755
CREATED:20250325T233533Z
LAST-MODIFIED:20251213T002526Z
UID:10000077-1759435200-1759442400@crescentlounge.co.uk
SUMMARY:An Evening with… Alastair James
DESCRIPTION:Join Alastair every Thursday at the Crescent Lounge\, for live\, acoustic jazz\, blues\, pop\, and original tunes. Cosy and central with top-notch music\, friendly vibes and great food and drinks — 8pm -10pm\, free entry\, all welcome! \nVisit https://www.alastairjames.com/music to hear all of Alastair’s releases.
URL:https://crescentlounge.co.uk/event/an-evening-with-alastair-james-2/2025-10-02/
LOCATION:The Crescent Lounge\, The Crescent Lounge\, Scarborough\, North Yorkshire\, YO11 2PW\, United Kingdom
CATEGORIES:Live Music
ATTACH;FMTTYPE=image/jpeg:https://crescentlounge.co.uk/wp-content/uploads/2025/03/1000054166.jpg
END:VEVENT
BEGIN:VEVENT
DTSTART;TZID=UTC:20251003T203000
DTEND;TZID=UTC:20251003T230000
DTSTAMP:20260423T014755
CREATED:20250326T000022Z
LAST-MODIFIED:20260126T230519Z
UID:10000333-1759523400-1759532400@crescentlounge.co.uk
SUMMARY:Open Mic Night
DESCRIPTION:Join us every Friday at The Crescent Lounge for our popular Open Mic Night hosted by the brilliant Mally Jackson! This is always a very friendly and inclusive night with great camaraderie\, where everyone is welcome to get up on stage and have a go! Whether you’re a singer\, musician\, comedian\, or poet\, very experienced or just starting out\, the stage is yours. \nIf you are not a performer\, worry not! Come and sit back\, relax\, and enjoy the show! This is always a fantastic evening filled with amazing live performances from a following of great local artists.
URL:https://crescentlounge.co.uk/event/open-mic-night-4/2025-10-03/
LOCATION:The Crescent Lounge\, The Crescent Lounge\, Scarborough\, North Yorkshire\, YO11 2PW\, United Kingdom
CATEGORIES:Live Music,Open Mic
ATTACH;FMTTYPE=image/jpeg:https://crescentlounge.co.uk/wp-content/uploads/2025/03/Open-Mic-Night-Final-scaled.jpg
END:VEVENT
BEGIN:VEVENT
DTSTART;TZID=UTC:20251005T180000
DTEND;TZID=UTC:20251005T200000
DTSTAMP:20260423T014755
CREATED:20250326T001346Z
LAST-MODIFIED:20250326T002657Z
UID:10000572-1759687200-1759694400@crescentlounge.co.uk
SUMMARY:Sunday Sessions – Jesse Caine
DESCRIPTION:Acoustic Sunday Sessions \nRelax into your Sunday evening with our\, weekly Acoustic Sunday Sessions from 6 – 8pm! \nThe very talented Jesse Caine will be performing this week. Think “Shades of Cat Stevens vocally with a strong and versatile guitar style that displays the influences of Bob Dylan\, Neil Young and Richard Thompson”. Performing a mix of covers and originals Jesse has regularly headlined festivals and played with the likes of Tom Paxton\, Isaac Guillory\, Status Quo\, The Lightning Seeds and many more. He’s appeared on TV and numerous local\, national and international radio shows and has a great following of supporters in Scarborough. Join us for a chilled\, intimate gig with great music\, good company\, and delicious drinks to help you make the most of your Sunday afternoon. Home-made food is on offer until 9pm! \nJesse has a monthly residency slot with us – catch him on the first Sunday of every month and check out his music on www.jessecaine.co.uk.
URL:https://crescentlounge.co.uk/event/sunday-sessions-jesse-caine-2/2025-10-05/
LOCATION:The Crescent Lounge\, The Crescent Lounge\, Scarborough\, North Yorkshire\, YO11 2PW\, United Kingdom
CATEGORIES:Live Music
ATTACH;FMTTYPE=image/jpeg:https://crescentlounge.co.uk/wp-content/uploads/2025/02/Jesse-Caine.jpg
END:VEVENT
BEGIN:VEVENT
DTSTART;TZID=UTC:20251009T200000
DTEND;TZID=UTC:20251009T220000
DTSTAMP:20260423T014755
CREATED:20250325T233533Z
LAST-MODIFIED:20251213T002526Z
UID:10000078-1760040000-1760047200@crescentlounge.co.uk
SUMMARY:An Evening with… Alastair James
DESCRIPTION:Join Alastair every Thursday at the Crescent Lounge\, for live\, acoustic jazz\, blues\, pop\, and original tunes. Cosy and central with top-notch music\, friendly vibes and great food and drinks — 8pm -10pm\, free entry\, all welcome! \nVisit https://www.alastairjames.com/music to hear all of Alastair’s releases.
URL:https://crescentlounge.co.uk/event/an-evening-with-alastair-james-2/2025-10-09/
LOCATION:The Crescent Lounge\, The Crescent Lounge\, Scarborough\, North Yorkshire\, YO11 2PW\, United Kingdom
CATEGORIES:Live Music
ATTACH;FMTTYPE=image/jpeg:https://crescentlounge.co.uk/wp-content/uploads/2025/03/1000054166.jpg
END:VEVENT
BEGIN:VEVENT
DTSTART;TZID=UTC:20251010T203000
DTEND;TZID=UTC:20251010T230000
DTSTAMP:20260423T014755
CREATED:20250326T000022Z
LAST-MODIFIED:20260126T230519Z
UID:10000334-1760128200-1760137200@crescentlounge.co.uk
SUMMARY:Open Mic Night
DESCRIPTION:Join us every Friday at The Crescent Lounge for our popular Open Mic Night hosted by the brilliant Mally Jackson! This is always a very friendly and inclusive night with great camaraderie\, where everyone is welcome to get up on stage and have a go! Whether you’re a singer\, musician\, comedian\, or poet\, very experienced or just starting out\, the stage is yours. \nIf you are not a performer\, worry not! Come and sit back\, relax\, and enjoy the show! This is always a fantastic evening filled with amazing live performances from a following of great local artists.
URL:https://crescentlounge.co.uk/event/open-mic-night-4/2025-10-10/
LOCATION:The Crescent Lounge\, The Crescent Lounge\, Scarborough\, North Yorkshire\, YO11 2PW\, United Kingdom
CATEGORIES:Live Music,Open Mic
ATTACH;FMTTYPE=image/jpeg:https://crescentlounge.co.uk/wp-content/uploads/2025/03/Open-Mic-Night-Final-scaled.jpg
END:VEVENT
BEGIN:VEVENT
DTSTART;TZID=UTC:20251016T200000
DTEND;TZID=UTC:20251016T220000
DTSTAMP:20260423T014755
CREATED:20250325T233533Z
LAST-MODIFIED:20251213T002526Z
UID:10000079-1760644800-1760652000@crescentlounge.co.uk
SUMMARY:An Evening with… Alastair James
DESCRIPTION:Join Alastair every Thursday at the Crescent Lounge\, for live\, acoustic jazz\, blues\, pop\, and original tunes. Cosy and central with top-notch music\, friendly vibes and great food and drinks — 8pm -10pm\, free entry\, all welcome! \nVisit https://www.alastairjames.com/music to hear all of Alastair’s releases.
URL:https://crescentlounge.co.uk/event/an-evening-with-alastair-james-2/2025-10-16/
LOCATION:The Crescent Lounge\, The Crescent Lounge\, Scarborough\, North Yorkshire\, YO11 2PW\, United Kingdom
CATEGORIES:Live Music
ATTACH;FMTTYPE=image/jpeg:https://crescentlounge.co.uk/wp-content/uploads/2025/03/1000054166.jpg
END:VEVENT
BEGIN:VEVENT
DTSTART;TZID=UTC:20251017T203000
DTEND;TZID=UTC:20251017T230000
DTSTAMP:20260423T014755
CREATED:20250326T000022Z
LAST-MODIFIED:20260126T230519Z
UID:10000335-1760733000-1760742000@crescentlounge.co.uk
SUMMARY:Open Mic Night
DESCRIPTION:Join us every Friday at The Crescent Lounge for our popular Open Mic Night hosted by the brilliant Mally Jackson! This is always a very friendly and inclusive night with great camaraderie\, where everyone is welcome to get up on stage and have a go! Whether you’re a singer\, musician\, comedian\, or poet\, very experienced or just starting out\, the stage is yours. \nIf you are not a performer\, worry not! Come and sit back\, relax\, and enjoy the show! This is always a fantastic evening filled with amazing live performances from a following of great local artists.
URL:https://crescentlounge.co.uk/event/open-mic-night-4/2025-10-17/
LOCATION:The Crescent Lounge\, The Crescent Lounge\, Scarborough\, North Yorkshire\, YO11 2PW\, United Kingdom
CATEGORIES:Live Music,Open Mic
ATTACH;FMTTYPE=image/jpeg:https://crescentlounge.co.uk/wp-content/uploads/2025/03/Open-Mic-Night-Final-scaled.jpg
END:VEVENT
BEGIN:VEVENT
DTSTART;TZID=UTC:20251023T200000
DTEND;TZID=UTC:20251023T220000
DTSTAMP:20260423T014755
CREATED:20250325T233533Z
LAST-MODIFIED:20251213T002526Z
UID:10000080-1761249600-1761256800@crescentlounge.co.uk
SUMMARY:An Evening with… Alastair James
DESCRIPTION:Join Alastair every Thursday at the Crescent Lounge\, for live\, acoustic jazz\, blues\, pop\, and original tunes. Cosy and central with top-notch music\, friendly vibes and great food and drinks — 8pm -10pm\, free entry\, all welcome! \nVisit https://www.alastairjames.com/music to hear all of Alastair’s releases.
URL:https://crescentlounge.co.uk/event/an-evening-with-alastair-james-2/2025-10-23/
LOCATION:The Crescent Lounge\, The Crescent Lounge\, Scarborough\, North Yorkshire\, YO11 2PW\, United Kingdom
CATEGORIES:Live Music
ATTACH;FMTTYPE=image/jpeg:https://crescentlounge.co.uk/wp-content/uploads/2025/03/1000054166.jpg
END:VEVENT
BEGIN:VEVENT
DTSTART;TZID=UTC:20251024T203000
DTEND;TZID=UTC:20251024T230000
DTSTAMP:20260423T014755
CREATED:20250326T000022Z
LAST-MODIFIED:20260126T230519Z
UID:10000336-1761337800-1761346800@crescentlounge.co.uk
SUMMARY:Open Mic Night
DESCRIPTION:Join us every Friday at The Crescent Lounge for our popular Open Mic Night hosted by the brilliant Mally Jackson! This is always a very friendly and inclusive night with great camaraderie\, where everyone is welcome to get up on stage and have a go! Whether you’re a singer\, musician\, comedian\, or poet\, very experienced or just starting out\, the stage is yours. \nIf you are not a performer\, worry not! Come and sit back\, relax\, and enjoy the show! This is always a fantastic evening filled with amazing live performances from a following of great local artists.
URL:https://crescentlounge.co.uk/event/open-mic-night-4/2025-10-24/
LOCATION:The Crescent Lounge\, The Crescent Lounge\, Scarborough\, North Yorkshire\, YO11 2PW\, United Kingdom
CATEGORIES:Live Music,Open Mic
ATTACH;FMTTYPE=image/jpeg:https://crescentlounge.co.uk/wp-content/uploads/2025/03/Open-Mic-Night-Final-scaled.jpg
END:VEVENT
BEGIN:VEVENT
DTSTART;TZID=UTC:20251025T200000
DTEND;TZID=UTC:20251025T230000
DTSTAMP:20260423T014755
CREATED:20250428T100045Z
LAST-MODIFIED:20250416T234620Z
UID:10000634-1761422400-1761433200@crescentlounge.co.uk
SUMMARY:Martin McAloon - Two Wheels Good Tour
DESCRIPTION:Martin McAloon of Prefab Sprout – Two Wheels Good Tour \nA 40th anniversary celebration of Steve McQueen \nTo celebrate the 40th anniversary of the release of Prefab Sprout’s seminal album Steve McQueen\, founding member Martin McAloon will be touring the whole album in 2025. “I can’t wait to take the full album out on the road\, there’s still a lot of love for those songs – that’s the triumph of Steve McQueen”. Known as Two Wheels Good in the USA the album includes the hits; When Love Breaks Down\, Faron Young\, Appetite\, Johnny\, Johnny & Moving the River. Steve McQueen went on to sell millions of records worldwide and was included in the NME’s 100 greatest albums of all time. He will also be playing other hits from across his brother Paddy’s catalogue of exceptional songs.
URL:https://crescentlounge.co.uk/event/martin-mcaloon-two-wheels-good-tour/
LOCATION:The Crescent Lounge\, The Crescent Lounge\, Scarborough\, North Yorkshire\, YO11 2PW\, United Kingdom
CATEGORIES:Live Music
ATTACH;FMTTYPE=image/jpeg:https://crescentlounge.co.uk/wp-content/uploads/2025/04/Martin-Mcaloon-ig.jpg
END:VEVENT
BEGIN:VEVENT
DTSTART;TZID=UTC:20251030T200000
DTEND;TZID=UTC:20251030T220000
DTSTAMP:20260423T014755
CREATED:20250325T233533Z
LAST-MODIFIED:20251213T002526Z
UID:10000081-1761854400-1761861600@crescentlounge.co.uk
SUMMARY:An Evening with… Alastair James
DESCRIPTION:Join Alastair every Thursday at the Crescent Lounge\, for live\, acoustic jazz\, blues\, pop\, and original tunes. Cosy and central with top-notch music\, friendly vibes and great food and drinks — 8pm -10pm\, free entry\, all welcome! \nVisit https://www.alastairjames.com/music to hear all of Alastair’s releases.
URL:https://crescentlounge.co.uk/event/an-evening-with-alastair-james-2/2025-10-30/
LOCATION:The Crescent Lounge\, The Crescent Lounge\, Scarborough\, North Yorkshire\, YO11 2PW\, United Kingdom
CATEGORIES:Live Music
ATTACH;FMTTYPE=image/jpeg:https://crescentlounge.co.uk/wp-content/uploads/2025/03/1000054166.jpg
END:VEVENT
BEGIN:VEVENT
DTSTART;TZID=UTC:20251031T203000
DTEND;TZID=UTC:20251031T230000
DTSTAMP:20260423T014755
CREATED:20250326T000022Z
LAST-MODIFIED:20260126T230519Z
UID:10000337-1761942600-1761951600@crescentlounge.co.uk
SUMMARY:Open Mic Night
DESCRIPTION:Join us every Friday at The Crescent Lounge for our popular Open Mic Night hosted by the brilliant Mally Jackson! This is always a very friendly and inclusive night with great camaraderie\, where everyone is welcome to get up on stage and have a go! Whether you’re a singer\, musician\, comedian\, or poet\, very experienced or just starting out\, the stage is yours. \nIf you are not a performer\, worry not! Come and sit back\, relax\, and enjoy the show! This is always a fantastic evening filled with amazing live performances from a following of great local artists.
URL:https://crescentlounge.co.uk/event/open-mic-night-4/2025-10-31/
LOCATION:The Crescent Lounge\, The Crescent Lounge\, Scarborough\, North Yorkshire\, YO11 2PW\, United Kingdom
CATEGORIES:Live Music,Open Mic
ATTACH;FMTTYPE=image/jpeg:https://crescentlounge.co.uk/wp-content/uploads/2025/03/Open-Mic-Night-Final-scaled.jpg
END:VEVENT
END:VCALENDAR