BEGIN:VCALENDAR
VERSION:2.0
PRODID:-//The Crescent Bar - ECPv6.15.20//NONSGML v1.0//EN
CALSCALE:GREGORIAN
METHOD:PUBLISH
X-WR-CALNAME:The Crescent Bar
X-ORIGINAL-URL:https://crescentlounge.co.uk
X-WR-CALDESC:Events for The Crescent Bar
REFRESH-INTERVAL;VALUE=DURATION:PT1H
X-Robots-Tag:noindex
X-PUBLISHED-TTL:PT1H
BEGIN:VTIMEZONE
TZID:UTC
BEGIN:STANDARD
TZOFFSETFROM:+0000
TZOFFSETTO:+0000
TZNAME:UTC
DTSTART:20240101T000000
END:STANDARD
END:VTIMEZONE
BEGIN:VEVENT
DTSTART;TZID=UTC:20251204T200000
DTEND;TZID=UTC:20251204T220000
DTSTAMP:20260422T222746
CREATED:20250325T233533Z
LAST-MODIFIED:20251213T002526Z
UID:10000086-1764878400-1764885600@crescentlounge.co.uk
SUMMARY:An Evening with… Alastair James
DESCRIPTION:Join Alastair every Thursday at the Crescent Lounge\, for live\, acoustic jazz\, blues\, pop\, and original tunes. Cosy and central with top-notch music\, friendly vibes and great food and drinks — 8pm -10pm\, free entry\, all welcome! \nVisit https://www.alastairjames.com/music to hear all of Alastair’s releases.
URL:https://crescentlounge.co.uk/event/an-evening-with-alastair-james-2/2025-12-04/
LOCATION:The Crescent Lounge\, The Crescent Lounge\, Scarborough\, North Yorkshire\, YO11 2PW\, United Kingdom
CATEGORIES:Live Music
ATTACH;FMTTYPE=image/jpeg:https://crescentlounge.co.uk/wp-content/uploads/2025/03/1000054166.jpg
END:VEVENT
BEGIN:VEVENT
DTSTART;TZID=UTC:20251205T203000
DTEND;TZID=UTC:20251205T230000
DTSTAMP:20260422T222746
CREATED:20250326T000022Z
LAST-MODIFIED:20260126T230519Z
UID:10000342-1764966600-1764975600@crescentlounge.co.uk
SUMMARY:Open Mic Night
DESCRIPTION:Join us every Friday at The Crescent Lounge for our popular Open Mic Night hosted by the brilliant Mally Jackson! This is always a very friendly and inclusive night with great camaraderie\, where everyone is welcome to get up on stage and have a go! Whether you’re a singer\, musician\, comedian\, or poet\, very experienced or just starting out\, the stage is yours. \nIf you are not a performer\, worry not! Come and sit back\, relax\, and enjoy the show! This is always a fantastic evening filled with amazing live performances from a following of great local artists.
URL:https://crescentlounge.co.uk/event/open-mic-night-4/2025-12-05/
LOCATION:The Crescent Lounge\, The Crescent Lounge\, Scarborough\, North Yorkshire\, YO11 2PW\, United Kingdom
CATEGORIES:Live Music,Open Mic
ATTACH;FMTTYPE=image/jpeg:https://crescentlounge.co.uk/wp-content/uploads/2025/03/Open-Mic-Night-Final-scaled.jpg
END:VEVENT
BEGIN:VEVENT
DTSTART;TZID=UTC:20251207T180000
DTEND;TZID=UTC:20251207T200000
DTSTAMP:20260422T222746
CREATED:20250326T001346Z
LAST-MODIFIED:20250326T002657Z
UID:10000574-1765130400-1765137600@crescentlounge.co.uk
SUMMARY:Sunday Sessions – Jesse Caine
DESCRIPTION:Acoustic Sunday Sessions \nRelax into your Sunday evening with our\, weekly Acoustic Sunday Sessions from 6 – 8pm! \nThe very talented Jesse Caine will be performing this week. Think “Shades of Cat Stevens vocally with a strong and versatile guitar style that displays the influences of Bob Dylan\, Neil Young and Richard Thompson”. Performing a mix of covers and originals Jesse has regularly headlined festivals and played with the likes of Tom Paxton\, Isaac Guillory\, Status Quo\, The Lightning Seeds and many more. He’s appeared on TV and numerous local\, national and international radio shows and has a great following of supporters in Scarborough. Join us for a chilled\, intimate gig with great music\, good company\, and delicious drinks to help you make the most of your Sunday afternoon. Home-made food is on offer until 9pm! \nJesse has a monthly residency slot with us – catch him on the first Sunday of every month and check out his music on www.jessecaine.co.uk.
URL:https://crescentlounge.co.uk/event/sunday-sessions-jesse-caine-2/2025-12-07/
LOCATION:The Crescent Lounge\, The Crescent Lounge\, Scarborough\, North Yorkshire\, YO11 2PW\, United Kingdom
CATEGORIES:Live Music
ATTACH;FMTTYPE=image/jpeg:https://crescentlounge.co.uk/wp-content/uploads/2025/02/Jesse-Caine.jpg
END:VEVENT
BEGIN:VEVENT
DTSTART;TZID=UTC:20251211T200000
DTEND;TZID=UTC:20251211T220000
DTSTAMP:20260422T222746
CREATED:20250325T233533Z
LAST-MODIFIED:20251213T002526Z
UID:10000087-1765483200-1765490400@crescentlounge.co.uk
SUMMARY:An Evening with… Alastair James
DESCRIPTION:Join Alastair every Thursday at the Crescent Lounge\, for live\, acoustic jazz\, blues\, pop\, and original tunes. Cosy and central with top-notch music\, friendly vibes and great food and drinks — 8pm -10pm\, free entry\, all welcome! \nVisit https://www.alastairjames.com/music to hear all of Alastair’s releases.
URL:https://crescentlounge.co.uk/event/an-evening-with-alastair-james-2/2025-12-11/
LOCATION:The Crescent Lounge\, The Crescent Lounge\, Scarborough\, North Yorkshire\, YO11 2PW\, United Kingdom
CATEGORIES:Live Music
ATTACH;FMTTYPE=image/jpeg:https://crescentlounge.co.uk/wp-content/uploads/2025/03/1000054166.jpg
END:VEVENT
BEGIN:VEVENT
DTSTART;TZID=UTC:20251212T203000
DTEND;TZID=UTC:20251212T230000
DTSTAMP:20260422T222746
CREATED:20250326T000022Z
LAST-MODIFIED:20260126T230519Z
UID:10000343-1765571400-1765580400@crescentlounge.co.uk
SUMMARY:Open Mic Night
DESCRIPTION:Join us every Friday at The Crescent Lounge for our popular Open Mic Night hosted by the brilliant Mally Jackson! This is always a very friendly and inclusive night with great camaraderie\, where everyone is welcome to get up on stage and have a go! Whether you’re a singer\, musician\, comedian\, or poet\, very experienced or just starting out\, the stage is yours. \nIf you are not a performer\, worry not! Come and sit back\, relax\, and enjoy the show! This is always a fantastic evening filled with amazing live performances from a following of great local artists.
URL:https://crescentlounge.co.uk/event/open-mic-night-4/2025-12-12/
LOCATION:The Crescent Lounge\, The Crescent Lounge\, Scarborough\, North Yorkshire\, YO11 2PW\, United Kingdom
CATEGORIES:Live Music,Open Mic
ATTACH;FMTTYPE=image/jpeg:https://crescentlounge.co.uk/wp-content/uploads/2025/03/Open-Mic-Night-Final-scaled.jpg
END:VEVENT
BEGIN:VEVENT
DTSTART;TZID=UTC:20251213T203000
DTEND;TZID=UTC:20251214T010000
DTSTAMP:20260422T222746
CREATED:20251212T232830Z
LAST-MODIFIED:20251212T232830Z
UID:10000674-1765657800-1765674000@crescentlounge.co.uk
SUMMARY:Open Jam Night with Beckview Studios
DESCRIPTION:Come and join Beckview Studios and Yorkshire Coast Gigs for a special Christmas Jam night extravaganza! The stage is open\, bring your instrument and your voice and come and celebrate the festive season with friendly\, familiar faces from the local music scene!
URL:https://crescentlounge.co.uk/event/open-jam-night-with-beckview-studios/
LOCATION:The Crescent Lounge\, The Crescent Lounge\, Scarborough\, North Yorkshire\, YO11 2PW\, United Kingdom
CATEGORIES:Live Music,Open Mic
ATTACH;FMTTYPE=image/jpeg:https://crescentlounge.co.uk/wp-content/uploads/2025/12/beckview-xp.jpg
END:VEVENT
BEGIN:VEVENT
DTSTART;TZID=UTC:20251214T190000
DTEND;TZID=UTC:20251214T210000
DTSTAMP:20260422T222746
CREATED:20250221T175442Z
LAST-MODIFIED:20251212T233104Z
UID:10000675-1765738800-1765746000@crescentlounge.co.uk
SUMMARY:Sunday Sessions - Jack Robertson
DESCRIPTION:Acoustic Sunday Sessions \nRelax into your Sunday evening with Jack Robertson at our Acoustic Sunday Sessions! \nJack Robertson will be gracing the stage with his acoustic set\, bringing you a laid-back atmosphere perfect for winding down your weekend. Performing a mix of covers and originals\, join us for a chilled\, intimate vibe with great music\, good company\, and delicious drinks to help you make the most of your Sunday afternoon.
URL:https://crescentlounge.co.uk/event/sunday-sessions-jack-robertson-2/2025-12-14/
LOCATION:The Crescent Lounge\, The Crescent Lounge\, Scarborough\, North Yorkshire\, YO11 2PW\, United Kingdom
CATEGORIES:Live Music
ATTACH;FMTTYPE=image/jpeg:https://crescentlounge.co.uk/wp-content/uploads/2025/02/Jack-robertson.jpg
END:VEVENT
BEGIN:VEVENT
DTSTART;TZID=UTC:20251218T200000
DTEND;TZID=UTC:20251218T220000
DTSTAMP:20260422T222746
CREATED:20250325T233533Z
LAST-MODIFIED:20251213T002526Z
UID:10000088-1766088000-1766095200@crescentlounge.co.uk
SUMMARY:An Evening with… Alastair James
DESCRIPTION:Join Alastair every Thursday at the Crescent Lounge\, for live\, acoustic jazz\, blues\, pop\, and original tunes. Cosy and central with top-notch music\, friendly vibes and great food and drinks — 8pm -10pm\, free entry\, all welcome! \nVisit https://www.alastairjames.com/music to hear all of Alastair’s releases.
URL:https://crescentlounge.co.uk/event/an-evening-with-alastair-james-2/2025-12-18/
LOCATION:The Crescent Lounge\, The Crescent Lounge\, Scarborough\, North Yorkshire\, YO11 2PW\, United Kingdom
CATEGORIES:Live Music
ATTACH;FMTTYPE=image/jpeg:https://crescentlounge.co.uk/wp-content/uploads/2025/03/1000054166.jpg
END:VEVENT
BEGIN:VEVENT
DTSTART;TZID=UTC:20251219T203000
DTEND;TZID=UTC:20251219T230000
DTSTAMP:20260422T222746
CREATED:20250326T000022Z
LAST-MODIFIED:20260126T230519Z
UID:10000344-1766176200-1766185200@crescentlounge.co.uk
SUMMARY:Open Mic Night
DESCRIPTION:Join us every Friday at The Crescent Lounge for our popular Open Mic Night hosted by the brilliant Mally Jackson! This is always a very friendly and inclusive night with great camaraderie\, where everyone is welcome to get up on stage and have a go! Whether you’re a singer\, musician\, comedian\, or poet\, very experienced or just starting out\, the stage is yours. \nIf you are not a performer\, worry not! Come and sit back\, relax\, and enjoy the show! This is always a fantastic evening filled with amazing live performances from a following of great local artists.
URL:https://crescentlounge.co.uk/event/open-mic-night-4/2025-12-19/
LOCATION:The Crescent Lounge\, The Crescent Lounge\, Scarborough\, North Yorkshire\, YO11 2PW\, United Kingdom
CATEGORIES:Live Music,Open Mic
ATTACH;FMTTYPE=image/jpeg:https://crescentlounge.co.uk/wp-content/uploads/2025/03/Open-Mic-Night-Final-scaled.jpg
END:VEVENT
BEGIN:VEVENT
DTSTART;TZID=UTC:20251221T190000
DTEND;TZID=UTC:20251221T210000
DTSTAMP:20260422T222746
CREATED:20251213T004726Z
LAST-MODIFIED:20251213T004727Z
UID:10000679-1766343600-1766350800@crescentlounge.co.uk
SUMMARY:Sunday Sessions - Dan Pelucci Cope
DESCRIPTION:Relax into your Sunday evening with our\, weekly Acoustic Sunday Sessions slot from  7 – 9pm! \nWith a laid-back atmosphere perfect for winding down your weekend this week’s artist is Dan Pelucci-Cope. Join us for a chilled\, intimate gig with great music\, good company\, and delicious drinks to help you make the most of your Sunday afternoon. Home-made food is on offer until 9pm!
URL:https://crescentlounge.co.uk/event/sunday-sessions-2/
LOCATION:The Crescent Lounge\, The Crescent Lounge\, Scarborough\, North Yorkshire\, YO11 2PW\, United Kingdom
CATEGORIES:Live Music
ATTACH;FMTTYPE=image/png:https://crescentlounge.co.uk/wp-content/uploads/2025/12/Sunday-Sessions.png
END:VEVENT
BEGIN:VEVENT
DTSTART;TZID=UTC:20251224T170000
DTEND;TZID=UTC:20251224T190000
DTSTAMP:20260422T222746
CREATED:20251212T234815Z
LAST-MODIFIED:20251212T234815Z
UID:10000678-1766595600-1766602800@crescentlounge.co.uk
SUMMARY:Xmas Eve with Martin Stone
DESCRIPTION:Come and enjoy a chilled Christmas Eve with singer and keyboard player Martin Stone. Expect funked up classics from across genres interspaced with some Christmas classics!
URL:https://crescentlounge.co.uk/event/xmas-eve-with-martin-stone/
LOCATION:The Crescent Lounge\, The Crescent Lounge\, Scarborough\, North Yorkshire\, YO11 2PW\, United Kingdom
CATEGORIES:Live Music
ATTACH;FMTTYPE=image/jpeg:https://crescentlounge.co.uk/wp-content/uploads/2025/12/Martin-stone.jpeg
END:VEVENT
BEGIN:VEVENT
DTSTART;TZID=UTC:20251227T210000
DTEND;TZID=UTC:20251227T230000
DTSTAMP:20260422T222746
CREATED:20251212T234130Z
LAST-MODIFIED:20251212T234130Z
UID:10000677-1766869200-1766876400@crescentlounge.co.uk
SUMMARY:Live Music - Charlie Swainston
DESCRIPTION:Come and join us to listen to the incredible voice that is Charlie Swainston! Covering indie classics from the 60s until now\, Charlie’s upbeat energy and infectious style will have you toe tapping and shouting for more!
URL:https://crescentlounge.co.uk/event/live-music-charlie-swainston/
LOCATION:The Crescent Lounge\, The Crescent Lounge\, Scarborough\, North Yorkshire\, YO11 2PW\, United Kingdom
CATEGORIES:Live Music
ATTACH;FMTTYPE=image/jpeg:https://crescentlounge.co.uk/wp-content/uploads/2025/12/th-deccharlie.jpg
END:VEVENT
BEGIN:VEVENT
DTSTART;TZID=UTC:20251228T190000
DTEND;TZID=UTC:20251228T210000
DTSTAMP:20260422T222746
CREATED:20251212T235653Z
LAST-MODIFIED:20251213T004448Z
UID:10000680-1766948400-1766955600@crescentlounge.co.uk
SUMMARY:Sunday Sessions
DESCRIPTION:Relax into your Sunday evening with our\, weekly Acoustic Sunday Sessions slot from  7 – 9pm! \nWith a laid-back atmosphere perfect for winding down your weekend and a different guest artist every week. Join us for a chilled\, intimate gig with great music\, good company\, and delicious drinks to help you make the most of your Sunday afternoon. Home-made food is on offer until 9pm!
URL:https://crescentlounge.co.uk/event/sunday-sessions/2025-12-28/
LOCATION:The Crescent Lounge\, The Crescent Lounge\, Scarborough\, North Yorkshire\, YO11 2PW\, United Kingdom
CATEGORIES:Live Music
ATTACH;FMTTYPE=image/png:https://crescentlounge.co.uk/wp-content/uploads/2025/12/Sunday-Sessions.png
END:VEVENT
BEGIN:VEVENT
DTSTART;TZID=UTC:20251230T203000
DTEND;TZID=UTC:20251230T235900
DTSTAMP:20260422T222746
CREATED:20250117T230128Z
LAST-MODIFIED:20250117T230128Z
UID:10000032-1767126600-1767139140@crescentlounge.co.uk
SUMMARY:Eastside Soul Club
DESCRIPTION:Join us at The Crescent Lounge for a night of authentic Northern Soul\, with Eastside Soul Club on the decks. Spinning rare and classic tracks on proper vinyl\, they bring the true sound of the scene to life. If you’re into real soul music\, this is the place to be for an evening of quality tunes\, dancing and good vibes.
URL:https://crescentlounge.co.uk/event/eastside-soul-club-8/
LOCATION:The Crescent Lounge\, The Crescent Lounge\, Scarborough\, North Yorkshire\, YO11 2PW\, United Kingdom
CATEGORIES:DJ,Live Music
ATTACH;FMTTYPE=image/jpeg:https://crescentlounge.co.uk/wp-content/uploads/2025/01/1000050359.jpg
END:VEVENT
BEGIN:VEVENT
DTSTART;TZID=UTC:20251231T070000
DTEND;TZID=UTC:20260101T010000
DTSTAMP:20260422T222746
CREATED:20251212T231908Z
LAST-MODIFIED:20251212T231909Z
UID:10000673-1767164400-1767229200@crescentlounge.co.uk
SUMMARY:New Years Eve Party with Best Served Cold
DESCRIPTION:Ring in the New Year at The Crescent Lounge! Enjoy our friendly\, warm and vibrant atmosphere with live music from the amazing Best Served Cold from 9pm. Expect lots of upbeat covers to get you dancing alongside some funky originals which have already become local classics! \nCountdown with us to midnight and join in with Auld Lang Syne. Hug a stranger\, let off some party poppers and loose yourself in the music until the early hours! Free entry\, no ticket required.
URL:https://crescentlounge.co.uk/event/new-years-eve-party-with-best-served-cold/
LOCATION:The Crescent Lounge\, The Crescent Lounge\, Scarborough\, North Yorkshire\, YO11 2PW\, United Kingdom
CATEGORIES:Live Music
ATTACH;FMTTYPE=image/jpeg:https://crescentlounge.co.uk/wp-content/uploads/2025/12/NYE-2025-Poster.jpg
END:VEVENT
END:VCALENDAR