BEGIN:VCALENDAR
VERSION:2.0
PRODID:-//The Crescent Bar - ECPv6.15.20//NONSGML v1.0//EN
CALSCALE:GREGORIAN
METHOD:PUBLISH
X-WR-CALNAME:The Crescent Bar
X-ORIGINAL-URL:https://crescentlounge.co.uk
X-WR-CALDESC:Events for The Crescent Bar
REFRESH-INTERVAL;VALUE=DURATION:PT1H
X-Robots-Tag:noindex
X-PUBLISHED-TTL:PT1H
BEGIN:VTIMEZONE
TZID:UTC
BEGIN:STANDARD
TZOFFSETFROM:+0000
TZOFFSETTO:+0000
TZNAME:UTC
DTSTART:20250101T000000
END:STANDARD
END:VTIMEZONE
BEGIN:VEVENT
DTSTART;TZID=UTC:20260501T203000
DTEND;TZID=UTC:20260501T230000
DTSTAMP:20260422T180524
CREATED:20250326T000022Z
LAST-MODIFIED:20260126T230519Z
UID:10000362-1777667400-1777676400@crescentlounge.co.uk
SUMMARY:Open Mic Night
DESCRIPTION:Join us every Friday at The Crescent Lounge for our popular Open Mic Night hosted by the brilliant Mally Jackson! This is always a very friendly and inclusive night with great camaraderie\, where everyone is welcome to get up on stage and have a go! Whether you’re a singer\, musician\, comedian\, or poet\, very experienced or just starting out\, the stage is yours. \nIf you are not a performer\, worry not! Come and sit back\, relax\, and enjoy the show! This is always a fantastic evening filled with amazing live performances from a following of great local artists.
URL:https://crescentlounge.co.uk/event/open-mic-night-4/2026-05-01/
LOCATION:The Crescent Lounge\, The Crescent Lounge\, Scarborough\, North Yorkshire\, YO11 2PW\, United Kingdom
CATEGORIES:Live Music,Open Mic
ATTACH;FMTTYPE=image/jpeg:https://crescentlounge.co.uk/wp-content/uploads/2025/03/Open-Mic-Night-Final-scaled.jpg
END:VEVENT
BEGIN:VEVENT
DTSTART;TZID=UTC:20260508T203000
DTEND;TZID=UTC:20260508T230000
DTSTAMP:20260422T180524
CREATED:20250326T000022Z
LAST-MODIFIED:20260126T230519Z
UID:10000363-1778272200-1778281200@crescentlounge.co.uk
SUMMARY:Open Mic Night
DESCRIPTION:Join us every Friday at The Crescent Lounge for our popular Open Mic Night hosted by the brilliant Mally Jackson! This is always a very friendly and inclusive night with great camaraderie\, where everyone is welcome to get up on stage and have a go! Whether you’re a singer\, musician\, comedian\, or poet\, very experienced or just starting out\, the stage is yours. \nIf you are not a performer\, worry not! Come and sit back\, relax\, and enjoy the show! This is always a fantastic evening filled with amazing live performances from a following of great local artists.
URL:https://crescentlounge.co.uk/event/open-mic-night-4/2026-05-08/
LOCATION:The Crescent Lounge\, The Crescent Lounge\, Scarborough\, North Yorkshire\, YO11 2PW\, United Kingdom
CATEGORIES:Live Music,Open Mic
ATTACH;FMTTYPE=image/jpeg:https://crescentlounge.co.uk/wp-content/uploads/2025/03/Open-Mic-Night-Final-scaled.jpg
END:VEVENT
BEGIN:VEVENT
DTSTART;TZID=UTC:20260515T203000
DTEND;TZID=UTC:20260515T230000
DTSTAMP:20260422T180524
CREATED:20250326T000022Z
LAST-MODIFIED:20260126T230519Z
UID:10000364-1778877000-1778886000@crescentlounge.co.uk
SUMMARY:Open Mic Night
DESCRIPTION:Join us every Friday at The Crescent Lounge for our popular Open Mic Night hosted by the brilliant Mally Jackson! This is always a very friendly and inclusive night with great camaraderie\, where everyone is welcome to get up on stage and have a go! Whether you’re a singer\, musician\, comedian\, or poet\, very experienced or just starting out\, the stage is yours. \nIf you are not a performer\, worry not! Come and sit back\, relax\, and enjoy the show! This is always a fantastic evening filled with amazing live performances from a following of great local artists.
URL:https://crescentlounge.co.uk/event/open-mic-night-4/2026-05-15/
LOCATION:The Crescent Lounge\, The Crescent Lounge\, Scarborough\, North Yorkshire\, YO11 2PW\, United Kingdom
CATEGORIES:Live Music,Open Mic
ATTACH;FMTTYPE=image/jpeg:https://crescentlounge.co.uk/wp-content/uploads/2025/03/Open-Mic-Night-Final-scaled.jpg
END:VEVENT
BEGIN:VEVENT
DTSTART;TZID=UTC:20260522T203000
DTEND;TZID=UTC:20260522T230000
DTSTAMP:20260422T180524
CREATED:20250326T000022Z
LAST-MODIFIED:20260126T230519Z
UID:10000365-1779481800-1779490800@crescentlounge.co.uk
SUMMARY:Open Mic Night
DESCRIPTION:Join us every Friday at The Crescent Lounge for our popular Open Mic Night hosted by the brilliant Mally Jackson! This is always a very friendly and inclusive night with great camaraderie\, where everyone is welcome to get up on stage and have a go! Whether you’re a singer\, musician\, comedian\, or poet\, very experienced or just starting out\, the stage is yours. \nIf you are not a performer\, worry not! Come and sit back\, relax\, and enjoy the show! This is always a fantastic evening filled with amazing live performances from a following of great local artists.
URL:https://crescentlounge.co.uk/event/open-mic-night-4/2026-05-22/
LOCATION:The Crescent Lounge\, The Crescent Lounge\, Scarborough\, North Yorkshire\, YO11 2PW\, United Kingdom
CATEGORIES:Live Music,Open Mic
ATTACH;FMTTYPE=image/jpeg:https://crescentlounge.co.uk/wp-content/uploads/2025/03/Open-Mic-Night-Final-scaled.jpg
END:VEVENT
BEGIN:VEVENT
DTSTART;TZID=UTC:20260529T203000
DTEND;TZID=UTC:20260529T230000
DTSTAMP:20260422T180524
CREATED:20250326T000022Z
LAST-MODIFIED:20260126T230519Z
UID:10000366-1780086600-1780095600@crescentlounge.co.uk
SUMMARY:Open Mic Night
DESCRIPTION:Join us every Friday at The Crescent Lounge for our popular Open Mic Night hosted by the brilliant Mally Jackson! This is always a very friendly and inclusive night with great camaraderie\, where everyone is welcome to get up on stage and have a go! Whether you’re a singer\, musician\, comedian\, or poet\, very experienced or just starting out\, the stage is yours. \nIf you are not a performer\, worry not! Come and sit back\, relax\, and enjoy the show! This is always a fantastic evening filled with amazing live performances from a following of great local artists.
URL:https://crescentlounge.co.uk/event/open-mic-night-4/2026-05-29/
LOCATION:The Crescent Lounge\, The Crescent Lounge\, Scarborough\, North Yorkshire\, YO11 2PW\, United Kingdom
CATEGORIES:Live Music,Open Mic
ATTACH;FMTTYPE=image/jpeg:https://crescentlounge.co.uk/wp-content/uploads/2025/03/Open-Mic-Night-Final-scaled.jpg
END:VEVENT
END:VCALENDAR