BEGIN:VCALENDAR
VERSION:2.0
PRODID:-//The Crescent Bar - ECPv6.15.20//NONSGML v1.0//EN
CALSCALE:GREGORIAN
METHOD:PUBLISH
X-WR-CALNAME:The Crescent Bar
X-ORIGINAL-URL:https://crescentlounge.co.uk
X-WR-CALDESC:Events for The Crescent Bar
REFRESH-INTERVAL;VALUE=DURATION:PT1H
X-Robots-Tag:noindex
X-PUBLISHED-TTL:PT1H
BEGIN:VTIMEZONE
TZID:UTC
BEGIN:STANDARD
TZOFFSETFROM:+0000
TZOFFSETTO:+0000
TZNAME:UTC
DTSTART:20250101T000000
END:STANDARD
END:VTIMEZONE
BEGIN:VEVENT
DTSTART;TZID=UTC:20260807T203000
DTEND;TZID=UTC:20260807T230000
DTSTAMP:20260422T224813
CREATED:20250326T000022Z
LAST-MODIFIED:20260126T230519Z
UID:10000376-1786134600-1786143600@crescentlounge.co.uk
SUMMARY:Open Mic Night
DESCRIPTION:Join us every Friday at The Crescent Lounge for our popular Open Mic Night hosted by the brilliant Mally Jackson! This is always a very friendly and inclusive night with great camaraderie\, where everyone is welcome to get up on stage and have a go! Whether you’re a singer\, musician\, comedian\, or poet\, very experienced or just starting out\, the stage is yours. \nIf you are not a performer\, worry not! Come and sit back\, relax\, and enjoy the show! This is always a fantastic evening filled with amazing live performances from a following of great local artists.
URL:https://crescentlounge.co.uk/event/open-mic-night-4/2026-08-07/
LOCATION:The Crescent Lounge\, The Crescent Lounge\, Scarborough\, North Yorkshire\, YO11 2PW\, United Kingdom
CATEGORIES:Live Music,Open Mic
ATTACH;FMTTYPE=image/jpeg:https://crescentlounge.co.uk/wp-content/uploads/2025/03/Open-Mic-Night-Final-scaled.jpg
END:VEVENT
BEGIN:VEVENT
DTSTART;TZID=UTC:20260814T203000
DTEND;TZID=UTC:20260814T230000
DTSTAMP:20260422T224813
CREATED:20250326T000022Z
LAST-MODIFIED:20260126T230519Z
UID:10000377-1786739400-1786748400@crescentlounge.co.uk
SUMMARY:Open Mic Night
DESCRIPTION:Join us every Friday at The Crescent Lounge for our popular Open Mic Night hosted by the brilliant Mally Jackson! This is always a very friendly and inclusive night with great camaraderie\, where everyone is welcome to get up on stage and have a go! Whether you’re a singer\, musician\, comedian\, or poet\, very experienced or just starting out\, the stage is yours. \nIf you are not a performer\, worry not! Come and sit back\, relax\, and enjoy the show! This is always a fantastic evening filled with amazing live performances from a following of great local artists.
URL:https://crescentlounge.co.uk/event/open-mic-night-4/2026-08-14/
LOCATION:The Crescent Lounge\, The Crescent Lounge\, Scarborough\, North Yorkshire\, YO11 2PW\, United Kingdom
CATEGORIES:Live Music,Open Mic
ATTACH;FMTTYPE=image/jpeg:https://crescentlounge.co.uk/wp-content/uploads/2025/03/Open-Mic-Night-Final-scaled.jpg
END:VEVENT
BEGIN:VEVENT
DTSTART;TZID=UTC:20260821T203000
DTEND;TZID=UTC:20260821T230000
DTSTAMP:20260422T224813
CREATED:20250326T000022Z
LAST-MODIFIED:20260126T230519Z
UID:10000378-1787344200-1787353200@crescentlounge.co.uk
SUMMARY:Open Mic Night
DESCRIPTION:Join us every Friday at The Crescent Lounge for our popular Open Mic Night hosted by the brilliant Mally Jackson! This is always a very friendly and inclusive night with great camaraderie\, where everyone is welcome to get up on stage and have a go! Whether you’re a singer\, musician\, comedian\, or poet\, very experienced or just starting out\, the stage is yours. \nIf you are not a performer\, worry not! Come and sit back\, relax\, and enjoy the show! This is always a fantastic evening filled with amazing live performances from a following of great local artists.
URL:https://crescentlounge.co.uk/event/open-mic-night-4/2026-08-21/
LOCATION:The Crescent Lounge\, The Crescent Lounge\, Scarborough\, North Yorkshire\, YO11 2PW\, United Kingdom
CATEGORIES:Live Music,Open Mic
ATTACH;FMTTYPE=image/jpeg:https://crescentlounge.co.uk/wp-content/uploads/2025/03/Open-Mic-Night-Final-scaled.jpg
END:VEVENT
BEGIN:VEVENT
DTSTART;TZID=UTC:20260828T203000
DTEND;TZID=UTC:20260828T230000
DTSTAMP:20260422T224813
CREATED:20250326T000022Z
LAST-MODIFIED:20260126T230519Z
UID:10000379-1787949000-1787958000@crescentlounge.co.uk
SUMMARY:Open Mic Night
DESCRIPTION:Join us every Friday at The Crescent Lounge for our popular Open Mic Night hosted by the brilliant Mally Jackson! This is always a very friendly and inclusive night with great camaraderie\, where everyone is welcome to get up on stage and have a go! Whether you’re a singer\, musician\, comedian\, or poet\, very experienced or just starting out\, the stage is yours. \nIf you are not a performer\, worry not! Come and sit back\, relax\, and enjoy the show! This is always a fantastic evening filled with amazing live performances from a following of great local artists.
URL:https://crescentlounge.co.uk/event/open-mic-night-4/2026-08-28/
LOCATION:The Crescent Lounge\, The Crescent Lounge\, Scarborough\, North Yorkshire\, YO11 2PW\, United Kingdom
CATEGORIES:Live Music,Open Mic
ATTACH;FMTTYPE=image/jpeg:https://crescentlounge.co.uk/wp-content/uploads/2025/03/Open-Mic-Night-Final-scaled.jpg
END:VEVENT
END:VCALENDAR