BEGIN:VCALENDAR
VERSION:2.0
PRODID:-//The Crescent Bar - ECPv6.15.20//NONSGML v1.0//EN
CALSCALE:GREGORIAN
METHOD:PUBLISH
X-WR-CALNAME:The Crescent Bar
X-ORIGINAL-URL:https://crescentlounge.co.uk
X-WR-CALDESC:Events for The Crescent Bar
REFRESH-INTERVAL;VALUE=DURATION:PT1H
X-Robots-Tag:noindex
X-PUBLISHED-TTL:PT1H
BEGIN:VTIMEZONE
TZID:UTC
BEGIN:STANDARD
TZOFFSETFROM:+0000
TZOFFSETTO:+0000
TZNAME:UTC
DTSTART:20250101T000000
END:STANDARD
END:VTIMEZONE
BEGIN:VEVENT
DTSTART;TZID=UTC:20260904T203000
DTEND;TZID=UTC:20260904T230000
DTSTAMP:20260423T002256
CREATED:20250326T000022Z
LAST-MODIFIED:20260126T230519Z
UID:10000380-1788553800-1788562800@crescentlounge.co.uk
SUMMARY:Open Mic Night
DESCRIPTION:Join us every Friday at The Crescent Lounge for our popular Open Mic Night hosted by the brilliant Mally Jackson! This is always a very friendly and inclusive night with great camaraderie\, where everyone is welcome to get up on stage and have a go! Whether you’re a singer\, musician\, comedian\, or poet\, very experienced or just starting out\, the stage is yours. \nIf you are not a performer\, worry not! Come and sit back\, relax\, and enjoy the show! This is always a fantastic evening filled with amazing live performances from a following of great local artists.
URL:https://crescentlounge.co.uk/event/open-mic-night-4/2026-09-04/
LOCATION:The Crescent Lounge\, The Crescent Lounge\, Scarborough\, North Yorkshire\, YO11 2PW\, United Kingdom
CATEGORIES:Live Music,Open Mic
ATTACH;FMTTYPE=image/jpeg:https://crescentlounge.co.uk/wp-content/uploads/2025/03/Open-Mic-Night-Final-scaled.jpg
END:VEVENT
BEGIN:VEVENT
DTSTART;TZID=UTC:20260911T203000
DTEND;TZID=UTC:20260911T230000
DTSTAMP:20260423T002256
CREATED:20250326T000022Z
LAST-MODIFIED:20260126T230519Z
UID:10000381-1789158600-1789167600@crescentlounge.co.uk
SUMMARY:Open Mic Night
DESCRIPTION:Join us every Friday at The Crescent Lounge for our popular Open Mic Night hosted by the brilliant Mally Jackson! This is always a very friendly and inclusive night with great camaraderie\, where everyone is welcome to get up on stage and have a go! Whether you’re a singer\, musician\, comedian\, or poet\, very experienced or just starting out\, the stage is yours. \nIf you are not a performer\, worry not! Come and sit back\, relax\, and enjoy the show! This is always a fantastic evening filled with amazing live performances from a following of great local artists.
URL:https://crescentlounge.co.uk/event/open-mic-night-4/2026-09-11/
LOCATION:The Crescent Lounge\, The Crescent Lounge\, Scarborough\, North Yorkshire\, YO11 2PW\, United Kingdom
CATEGORIES:Live Music,Open Mic
ATTACH;FMTTYPE=image/jpeg:https://crescentlounge.co.uk/wp-content/uploads/2025/03/Open-Mic-Night-Final-scaled.jpg
END:VEVENT
BEGIN:VEVENT
DTSTART;TZID=UTC:20260918T203000
DTEND;TZID=UTC:20260918T230000
DTSTAMP:20260423T002256
CREATED:20250326T000022Z
LAST-MODIFIED:20260126T230519Z
UID:10000382-1789763400-1789772400@crescentlounge.co.uk
SUMMARY:Open Mic Night
DESCRIPTION:Join us every Friday at The Crescent Lounge for our popular Open Mic Night hosted by the brilliant Mally Jackson! This is always a very friendly and inclusive night with great camaraderie\, where everyone is welcome to get up on stage and have a go! Whether you’re a singer\, musician\, comedian\, or poet\, very experienced or just starting out\, the stage is yours. \nIf you are not a performer\, worry not! Come and sit back\, relax\, and enjoy the show! This is always a fantastic evening filled with amazing live performances from a following of great local artists.
URL:https://crescentlounge.co.uk/event/open-mic-night-4/2026-09-18/
LOCATION:The Crescent Lounge\, The Crescent Lounge\, Scarborough\, North Yorkshire\, YO11 2PW\, United Kingdom
CATEGORIES:Live Music,Open Mic
ATTACH;FMTTYPE=image/jpeg:https://crescentlounge.co.uk/wp-content/uploads/2025/03/Open-Mic-Night-Final-scaled.jpg
END:VEVENT
BEGIN:VEVENT
DTSTART;TZID=UTC:20260925T203000
DTEND;TZID=UTC:20260925T230000
DTSTAMP:20260423T002256
CREATED:20250326T000022Z
LAST-MODIFIED:20260126T230519Z
UID:10000383-1790368200-1790377200@crescentlounge.co.uk
SUMMARY:Open Mic Night
DESCRIPTION:Join us every Friday at The Crescent Lounge for our popular Open Mic Night hosted by the brilliant Mally Jackson! This is always a very friendly and inclusive night with great camaraderie\, where everyone is welcome to get up on stage and have a go! Whether you’re a singer\, musician\, comedian\, or poet\, very experienced or just starting out\, the stage is yours. \nIf you are not a performer\, worry not! Come and sit back\, relax\, and enjoy the show! This is always a fantastic evening filled with amazing live performances from a following of great local artists.
URL:https://crescentlounge.co.uk/event/open-mic-night-4/2026-09-25/
LOCATION:The Crescent Lounge\, The Crescent Lounge\, Scarborough\, North Yorkshire\, YO11 2PW\, United Kingdom
CATEGORIES:Live Music,Open Mic
ATTACH;FMTTYPE=image/jpeg:https://crescentlounge.co.uk/wp-content/uploads/2025/03/Open-Mic-Night-Final-scaled.jpg
END:VEVENT
END:VCALENDAR