BEGIN:VCALENDAR
VERSION:2.0
PRODID:-//The Crescent Bar - ECPv6.15.20//NONSGML v1.0//EN
CALSCALE:GREGORIAN
METHOD:PUBLISH
X-WR-CALNAME:The Crescent Bar
X-ORIGINAL-URL:https://crescentlounge.co.uk
X-WR-CALDESC:Events for The Crescent Bar
REFRESH-INTERVAL;VALUE=DURATION:PT1H
X-Robots-Tag:noindex
X-PUBLISHED-TTL:PT1H
BEGIN:VTIMEZONE
TZID:UTC
BEGIN:STANDARD
TZOFFSETFROM:+0000
TZOFFSETTO:+0000
TZNAME:UTC
DTSTART:20250101T000000
END:STANDARD
END:VTIMEZONE
BEGIN:VEVENT
DTSTART;TZID=UTC:20261001T200000
DTEND;TZID=UTC:20261001T220000
DTSTAMP:20260422T222638
CREATED:20250325T233533Z
LAST-MODIFIED:20251213T002526Z
UID:10000129-1790884800-1790892000@crescentlounge.co.uk
SUMMARY:An Evening with… Alastair James
DESCRIPTION:Join Alastair every Thursday at the Crescent Lounge\, for live\, acoustic jazz\, blues\, pop\, and original tunes. Cosy and central with top-notch music\, friendly vibes and great food and drinks — 8pm -10pm\, free entry\, all welcome! \nVisit https://www.alastairjames.com/music to hear all of Alastair’s releases.
URL:https://crescentlounge.co.uk/event/an-evening-with-alastair-james-2/2026-10-01/
LOCATION:The Crescent Lounge\, The Crescent Lounge\, Scarborough\, North Yorkshire\, YO11 2PW\, United Kingdom
CATEGORIES:Live Music
ATTACH;FMTTYPE=image/jpeg:https://crescentlounge.co.uk/wp-content/uploads/2025/03/1000054166.jpg
END:VEVENT
BEGIN:VEVENT
DTSTART;TZID=UTC:20261002T203000
DTEND;TZID=UTC:20261002T230000
DTSTAMP:20260422T222638
CREATED:20250326T000022Z
LAST-MODIFIED:20260126T230519Z
UID:10000384-1790973000-1790982000@crescentlounge.co.uk
SUMMARY:Open Mic Night
DESCRIPTION:Join us every Friday at The Crescent Lounge for our popular Open Mic Night hosted by the brilliant Mally Jackson! This is always a very friendly and inclusive night with great camaraderie\, where everyone is welcome to get up on stage and have a go! Whether you’re a singer\, musician\, comedian\, or poet\, very experienced or just starting out\, the stage is yours. \nIf you are not a performer\, worry not! Come and sit back\, relax\, and enjoy the show! This is always a fantastic evening filled with amazing live performances from a following of great local artists.
URL:https://crescentlounge.co.uk/event/open-mic-night-4/2026-10-02/
LOCATION:The Crescent Lounge\, The Crescent Lounge\, Scarborough\, North Yorkshire\, YO11 2PW\, United Kingdom
CATEGORIES:Live Music,Open Mic
ATTACH;FMTTYPE=image/jpeg:https://crescentlounge.co.uk/wp-content/uploads/2025/03/Open-Mic-Night-Final-scaled.jpg
END:VEVENT
BEGIN:VEVENT
DTSTART;TZID=UTC:20261004T160000
DTEND;TZID=UTC:20261004T183000
DTSTAMP:20260422T222638
CREATED:20260126T152434Z
LAST-MODIFIED:20260126T152434Z
UID:10001166-1791129600-1791138600@crescentlounge.co.uk
SUMMARY:Under 20s Open Mic
DESCRIPTION:Join us for our Sunday afternoon Open Mic\, hosted by the brilliant Charlie Flintoff and Emily Gaskell! This is always a very friendly and inclusive afternoon with great camaraderie\, where everyone is welcome to get up on stage and have a go! Whether you’re a singer\, musician\, comedian\, or poet\, experienced or just starting out\, the stage is yours. Our Sunday afternoon Open Mic is specifically aimed at young people who might just be starting out and unable to access other open mics due to age or experience. \nIf you are not a performer\, worry not! Come and sit back\, relax\, and enjoy being one of the first to experience Yorkshires next generation of Musicians!
URL:https://crescentlounge.co.uk/event/under-20s-open-mic/2026-10-04/
LOCATION:The Crescent Lounge\, The Crescent Lounge\, Scarborough\, North Yorkshire\, YO11 2PW\, United Kingdom
END:VEVENT
BEGIN:VEVENT
DTSTART;TZID=UTC:20261004T180000
DTEND;TZID=UTC:20261004T200000
DTSTAMP:20260422T222638
CREATED:20250326T001346Z
LAST-MODIFIED:20250326T002657Z
UID:10000584-1791136800-1791144000@crescentlounge.co.uk
SUMMARY:Sunday Sessions – Jesse Caine
DESCRIPTION:Acoustic Sunday Sessions \nRelax into your Sunday evening with our\, weekly Acoustic Sunday Sessions from 6 – 8pm! \nThe very talented Jesse Caine will be performing this week. Think “Shades of Cat Stevens vocally with a strong and versatile guitar style that displays the influences of Bob Dylan\, Neil Young and Richard Thompson”. Performing a mix of covers and originals Jesse has regularly headlined festivals and played with the likes of Tom Paxton\, Isaac Guillory\, Status Quo\, The Lightning Seeds and many more. He’s appeared on TV and numerous local\, national and international radio shows and has a great following of supporters in Scarborough. Join us for a chilled\, intimate gig with great music\, good company\, and delicious drinks to help you make the most of your Sunday afternoon. Home-made food is on offer until 9pm! \nJesse has a monthly residency slot with us – catch him on the first Sunday of every month and check out his music on www.jessecaine.co.uk.
URL:https://crescentlounge.co.uk/event/sunday-sessions-jesse-caine-2/2026-10-04/
LOCATION:The Crescent Lounge\, The Crescent Lounge\, Scarborough\, North Yorkshire\, YO11 2PW\, United Kingdom
CATEGORIES:Live Music
ATTACH;FMTTYPE=image/jpeg:https://crescentlounge.co.uk/wp-content/uploads/2025/02/Jesse-Caine.jpg
END:VEVENT
BEGIN:VEVENT
DTSTART;TZID=UTC:20261008T200000
DTEND;TZID=UTC:20261008T220000
DTSTAMP:20260422T222638
CREATED:20250325T233533Z
LAST-MODIFIED:20251213T002526Z
UID:10000130-1791489600-1791496800@crescentlounge.co.uk
SUMMARY:An Evening with… Alastair James
DESCRIPTION:Join Alastair every Thursday at the Crescent Lounge\, for live\, acoustic jazz\, blues\, pop\, and original tunes. Cosy and central with top-notch music\, friendly vibes and great food and drinks — 8pm -10pm\, free entry\, all welcome! \nVisit https://www.alastairjames.com/music to hear all of Alastair’s releases.
URL:https://crescentlounge.co.uk/event/an-evening-with-alastair-james-2/2026-10-08/
LOCATION:The Crescent Lounge\, The Crescent Lounge\, Scarborough\, North Yorkshire\, YO11 2PW\, United Kingdom
CATEGORIES:Live Music
ATTACH;FMTTYPE=image/jpeg:https://crescentlounge.co.uk/wp-content/uploads/2025/03/1000054166.jpg
END:VEVENT
BEGIN:VEVENT
DTSTART;TZID=UTC:20261009T203000
DTEND;TZID=UTC:20261009T230000
DTSTAMP:20260422T222638
CREATED:20250326T000022Z
LAST-MODIFIED:20260126T230519Z
UID:10000385-1791577800-1791586800@crescentlounge.co.uk
SUMMARY:Open Mic Night
DESCRIPTION:Join us every Friday at The Crescent Lounge for our popular Open Mic Night hosted by the brilliant Mally Jackson! This is always a very friendly and inclusive night with great camaraderie\, where everyone is welcome to get up on stage and have a go! Whether you’re a singer\, musician\, comedian\, or poet\, very experienced or just starting out\, the stage is yours. \nIf you are not a performer\, worry not! Come and sit back\, relax\, and enjoy the show! This is always a fantastic evening filled with amazing live performances from a following of great local artists.
URL:https://crescentlounge.co.uk/event/open-mic-night-4/2026-10-09/
LOCATION:The Crescent Lounge\, The Crescent Lounge\, Scarborough\, North Yorkshire\, YO11 2PW\, United Kingdom
CATEGORIES:Live Music,Open Mic
ATTACH;FMTTYPE=image/jpeg:https://crescentlounge.co.uk/wp-content/uploads/2025/03/Open-Mic-Night-Final-scaled.jpg
END:VEVENT
BEGIN:VEVENT
DTSTART;TZID=UTC:20261011T160000
DTEND;TZID=UTC:20261011T183000
DTSTAMP:20260422T222638
CREATED:20260126T152434Z
LAST-MODIFIED:20260126T152434Z
UID:10001167-1791734400-1791743400@crescentlounge.co.uk
SUMMARY:Under 20s Open Mic
DESCRIPTION:Join us for our Sunday afternoon Open Mic\, hosted by the brilliant Charlie Flintoff and Emily Gaskell! This is always a very friendly and inclusive afternoon with great camaraderie\, where everyone is welcome to get up on stage and have a go! Whether you’re a singer\, musician\, comedian\, or poet\, experienced or just starting out\, the stage is yours. Our Sunday afternoon Open Mic is specifically aimed at young people who might just be starting out and unable to access other open mics due to age or experience. \nIf you are not a performer\, worry not! Come and sit back\, relax\, and enjoy being one of the first to experience Yorkshires next generation of Musicians!
URL:https://crescentlounge.co.uk/event/under-20s-open-mic/2026-10-11/
LOCATION:The Crescent Lounge\, The Crescent Lounge\, Scarborough\, North Yorkshire\, YO11 2PW\, United Kingdom
END:VEVENT
BEGIN:VEVENT
DTSTART;TZID=UTC:20261011T190000
DTEND;TZID=UTC:20261011T210000
DTSTAMP:20260422T222638
CREATED:20251212T235653Z
LAST-MODIFIED:20251213T004448Z
UID:10000711-1791745200-1791752400@crescentlounge.co.uk
SUMMARY:Sunday Sessions
DESCRIPTION:Relax into your Sunday evening with our\, weekly Acoustic Sunday Sessions slot from  7 – 9pm! \nWith a laid-back atmosphere perfect for winding down your weekend and a different guest artist every week. Join us for a chilled\, intimate gig with great music\, good company\, and delicious drinks to help you make the most of your Sunday afternoon. Home-made food is on offer until 9pm!
URL:https://crescentlounge.co.uk/event/sunday-sessions/2026-10-11/
LOCATION:The Crescent Lounge\, The Crescent Lounge\, Scarborough\, North Yorkshire\, YO11 2PW\, United Kingdom
CATEGORIES:Live Music
ATTACH;FMTTYPE=image/png:https://crescentlounge.co.uk/wp-content/uploads/2025/12/Sunday-Sessions.png
END:VEVENT
BEGIN:VEVENT
DTSTART;TZID=UTC:20261015T200000
DTEND;TZID=UTC:20261015T220000
DTSTAMP:20260422T222638
CREATED:20250325T233533Z
LAST-MODIFIED:20251213T002526Z
UID:10000131-1792094400-1792101600@crescentlounge.co.uk
SUMMARY:An Evening with… Alastair James
DESCRIPTION:Join Alastair every Thursday at the Crescent Lounge\, for live\, acoustic jazz\, blues\, pop\, and original tunes. Cosy and central with top-notch music\, friendly vibes and great food and drinks — 8pm -10pm\, free entry\, all welcome! \nVisit https://www.alastairjames.com/music to hear all of Alastair’s releases.
URL:https://crescentlounge.co.uk/event/an-evening-with-alastair-james-2/2026-10-15/
LOCATION:The Crescent Lounge\, The Crescent Lounge\, Scarborough\, North Yorkshire\, YO11 2PW\, United Kingdom
CATEGORIES:Live Music
ATTACH;FMTTYPE=image/jpeg:https://crescentlounge.co.uk/wp-content/uploads/2025/03/1000054166.jpg
END:VEVENT
BEGIN:VEVENT
DTSTART;TZID=UTC:20261016T203000
DTEND;TZID=UTC:20261016T230000
DTSTAMP:20260422T222638
CREATED:20250326T000022Z
LAST-MODIFIED:20260126T230519Z
UID:10000386-1792182600-1792191600@crescentlounge.co.uk
SUMMARY:Open Mic Night
DESCRIPTION:Join us every Friday at The Crescent Lounge for our popular Open Mic Night hosted by the brilliant Mally Jackson! This is always a very friendly and inclusive night with great camaraderie\, where everyone is welcome to get up on stage and have a go! Whether you’re a singer\, musician\, comedian\, or poet\, very experienced or just starting out\, the stage is yours. \nIf you are not a performer\, worry not! Come and sit back\, relax\, and enjoy the show! This is always a fantastic evening filled with amazing live performances from a following of great local artists.
URL:https://crescentlounge.co.uk/event/open-mic-night-4/2026-10-16/
LOCATION:The Crescent Lounge\, The Crescent Lounge\, Scarborough\, North Yorkshire\, YO11 2PW\, United Kingdom
CATEGORIES:Live Music,Open Mic
ATTACH;FMTTYPE=image/jpeg:https://crescentlounge.co.uk/wp-content/uploads/2025/03/Open-Mic-Night-Final-scaled.jpg
END:VEVENT
BEGIN:VEVENT
DTSTART;TZID=UTC:20261018T160000
DTEND;TZID=UTC:20261018T183000
DTSTAMP:20260422T222638
CREATED:20260126T152434Z
LAST-MODIFIED:20260126T152434Z
UID:10001168-1792339200-1792348200@crescentlounge.co.uk
SUMMARY:Under 20s Open Mic
DESCRIPTION:Join us for our Sunday afternoon Open Mic\, hosted by the brilliant Charlie Flintoff and Emily Gaskell! This is always a very friendly and inclusive afternoon with great camaraderie\, where everyone is welcome to get up on stage and have a go! Whether you’re a singer\, musician\, comedian\, or poet\, experienced or just starting out\, the stage is yours. Our Sunday afternoon Open Mic is specifically aimed at young people who might just be starting out and unable to access other open mics due to age or experience. \nIf you are not a performer\, worry not! Come and sit back\, relax\, and enjoy being one of the first to experience Yorkshires next generation of Musicians!
URL:https://crescentlounge.co.uk/event/under-20s-open-mic/2026-10-18/
LOCATION:The Crescent Lounge\, The Crescent Lounge\, Scarborough\, North Yorkshire\, YO11 2PW\, United Kingdom
END:VEVENT
BEGIN:VEVENT
DTSTART;TZID=UTC:20261018T190000
DTEND;TZID=UTC:20261018T210000
DTSTAMP:20260422T222638
CREATED:20251212T235653Z
LAST-MODIFIED:20251213T004448Z
UID:10000712-1792350000-1792357200@crescentlounge.co.uk
SUMMARY:Sunday Sessions
DESCRIPTION:Relax into your Sunday evening with our\, weekly Acoustic Sunday Sessions slot from  7 – 9pm! \nWith a laid-back atmosphere perfect for winding down your weekend and a different guest artist every week. Join us for a chilled\, intimate gig with great music\, good company\, and delicious drinks to help you make the most of your Sunday afternoon. Home-made food is on offer until 9pm!
URL:https://crescentlounge.co.uk/event/sunday-sessions/2026-10-18/
LOCATION:The Crescent Lounge\, The Crescent Lounge\, Scarborough\, North Yorkshire\, YO11 2PW\, United Kingdom
CATEGORIES:Live Music
ATTACH;FMTTYPE=image/png:https://crescentlounge.co.uk/wp-content/uploads/2025/12/Sunday-Sessions.png
END:VEVENT
BEGIN:VEVENT
DTSTART;TZID=UTC:20261022T200000
DTEND;TZID=UTC:20261022T220000
DTSTAMP:20260422T222638
CREATED:20250325T233533Z
LAST-MODIFIED:20251213T002526Z
UID:10000132-1792699200-1792706400@crescentlounge.co.uk
SUMMARY:An Evening with… Alastair James
DESCRIPTION:Join Alastair every Thursday at the Crescent Lounge\, for live\, acoustic jazz\, blues\, pop\, and original tunes. Cosy and central with top-notch music\, friendly vibes and great food and drinks — 8pm -10pm\, free entry\, all welcome! \nVisit https://www.alastairjames.com/music to hear all of Alastair’s releases.
URL:https://crescentlounge.co.uk/event/an-evening-with-alastair-james-2/2026-10-22/
LOCATION:The Crescent Lounge\, The Crescent Lounge\, Scarborough\, North Yorkshire\, YO11 2PW\, United Kingdom
CATEGORIES:Live Music
ATTACH;FMTTYPE=image/jpeg:https://crescentlounge.co.uk/wp-content/uploads/2025/03/1000054166.jpg
END:VEVENT
BEGIN:VEVENT
DTSTART;TZID=UTC:20261023T203000
DTEND;TZID=UTC:20261023T230000
DTSTAMP:20260422T222638
CREATED:20250326T000022Z
LAST-MODIFIED:20260126T230519Z
UID:10000387-1792787400-1792796400@crescentlounge.co.uk
SUMMARY:Open Mic Night
DESCRIPTION:Join us every Friday at The Crescent Lounge for our popular Open Mic Night hosted by the brilliant Mally Jackson! This is always a very friendly and inclusive night with great camaraderie\, where everyone is welcome to get up on stage and have a go! Whether you’re a singer\, musician\, comedian\, or poet\, very experienced or just starting out\, the stage is yours. \nIf you are not a performer\, worry not! Come and sit back\, relax\, and enjoy the show! This is always a fantastic evening filled with amazing live performances from a following of great local artists.
URL:https://crescentlounge.co.uk/event/open-mic-night-4/2026-10-23/
LOCATION:The Crescent Lounge\, The Crescent Lounge\, Scarborough\, North Yorkshire\, YO11 2PW\, United Kingdom
CATEGORIES:Live Music,Open Mic
ATTACH;FMTTYPE=image/jpeg:https://crescentlounge.co.uk/wp-content/uploads/2025/03/Open-Mic-Night-Final-scaled.jpg
END:VEVENT
BEGIN:VEVENT
DTSTART;TZID=UTC:20261025T160000
DTEND;TZID=UTC:20261025T183000
DTSTAMP:20260422T222638
CREATED:20260126T152434Z
LAST-MODIFIED:20260126T152434Z
UID:10001169-1792944000-1792953000@crescentlounge.co.uk
SUMMARY:Under 20s Open Mic
DESCRIPTION:Join us for our Sunday afternoon Open Mic\, hosted by the brilliant Charlie Flintoff and Emily Gaskell! This is always a very friendly and inclusive afternoon with great camaraderie\, where everyone is welcome to get up on stage and have a go! Whether you’re a singer\, musician\, comedian\, or poet\, experienced or just starting out\, the stage is yours. Our Sunday afternoon Open Mic is specifically aimed at young people who might just be starting out and unable to access other open mics due to age or experience. \nIf you are not a performer\, worry not! Come and sit back\, relax\, and enjoy being one of the first to experience Yorkshires next generation of Musicians!
URL:https://crescentlounge.co.uk/event/under-20s-open-mic/2026-10-25/
LOCATION:The Crescent Lounge\, The Crescent Lounge\, Scarborough\, North Yorkshire\, YO11 2PW\, United Kingdom
END:VEVENT
BEGIN:VEVENT
DTSTART;TZID=UTC:20261025T190000
DTEND;TZID=UTC:20261025T210000
DTSTAMP:20260422T222638
CREATED:20251212T235653Z
LAST-MODIFIED:20251213T004448Z
UID:10000713-1792954800-1792962000@crescentlounge.co.uk
SUMMARY:Sunday Sessions
DESCRIPTION:Relax into your Sunday evening with our\, weekly Acoustic Sunday Sessions slot from  7 – 9pm! \nWith a laid-back atmosphere perfect for winding down your weekend and a different guest artist every week. Join us for a chilled\, intimate gig with great music\, good company\, and delicious drinks to help you make the most of your Sunday afternoon. Home-made food is on offer until 9pm!
URL:https://crescentlounge.co.uk/event/sunday-sessions/2026-10-25/
LOCATION:The Crescent Lounge\, The Crescent Lounge\, Scarborough\, North Yorkshire\, YO11 2PW\, United Kingdom
CATEGORIES:Live Music
ATTACH;FMTTYPE=image/png:https://crescentlounge.co.uk/wp-content/uploads/2025/12/Sunday-Sessions.png
END:VEVENT
BEGIN:VEVENT
DTSTART;TZID=UTC:20261029T200000
DTEND;TZID=UTC:20261029T220000
DTSTAMP:20260422T222638
CREATED:20250325T233533Z
LAST-MODIFIED:20251213T002526Z
UID:10000133-1793304000-1793311200@crescentlounge.co.uk
SUMMARY:An Evening with… Alastair James
DESCRIPTION:Join Alastair every Thursday at the Crescent Lounge\, for live\, acoustic jazz\, blues\, pop\, and original tunes. Cosy and central with top-notch music\, friendly vibes and great food and drinks — 8pm -10pm\, free entry\, all welcome! \nVisit https://www.alastairjames.com/music to hear all of Alastair’s releases.
URL:https://crescentlounge.co.uk/event/an-evening-with-alastair-james-2/2026-10-29/
LOCATION:The Crescent Lounge\, The Crescent Lounge\, Scarborough\, North Yorkshire\, YO11 2PW\, United Kingdom
CATEGORIES:Live Music
ATTACH;FMTTYPE=image/jpeg:https://crescentlounge.co.uk/wp-content/uploads/2025/03/1000054166.jpg
END:VEVENT
BEGIN:VEVENT
DTSTART;TZID=UTC:20261030T203000
DTEND;TZID=UTC:20261030T230000
DTSTAMP:20260422T222638
CREATED:20250326T000022Z
LAST-MODIFIED:20260126T230519Z
UID:10000388-1793392200-1793401200@crescentlounge.co.uk
SUMMARY:Open Mic Night
DESCRIPTION:Join us every Friday at The Crescent Lounge for our popular Open Mic Night hosted by the brilliant Mally Jackson! This is always a very friendly and inclusive night with great camaraderie\, where everyone is welcome to get up on stage and have a go! Whether you’re a singer\, musician\, comedian\, or poet\, very experienced or just starting out\, the stage is yours. \nIf you are not a performer\, worry not! Come and sit back\, relax\, and enjoy the show! This is always a fantastic evening filled with amazing live performances from a following of great local artists.
URL:https://crescentlounge.co.uk/event/open-mic-night-4/2026-10-30/
LOCATION:The Crescent Lounge\, The Crescent Lounge\, Scarborough\, North Yorkshire\, YO11 2PW\, United Kingdom
CATEGORIES:Live Music,Open Mic
ATTACH;FMTTYPE=image/jpeg:https://crescentlounge.co.uk/wp-content/uploads/2025/03/Open-Mic-Night-Final-scaled.jpg
END:VEVENT
END:VCALENDAR