BEGIN:VCALENDAR
VERSION:2.0
PRODID:-//The Crescent Bar - ECPv6.15.20//NONSGML v1.0//EN
CALSCALE:GREGORIAN
METHOD:PUBLISH
X-WR-CALNAME:The Crescent Bar
X-ORIGINAL-URL:https://crescentlounge.co.uk
X-WR-CALDESC:Events for The Crescent Bar
REFRESH-INTERVAL;VALUE=DURATION:PT1H
X-Robots-Tag:noindex
X-PUBLISHED-TTL:PT1H
BEGIN:VTIMEZONE
TZID:UTC
BEGIN:STANDARD
TZOFFSETFROM:+0000
TZOFFSETTO:+0000
TZNAME:UTC
DTSTART:20250101T000000
END:STANDARD
END:VTIMEZONE
BEGIN:VEVENT
DTSTART;TZID=UTC:20260426T190000
DTEND;TZID=UTC:20260426T210000
DTSTAMP:20260422T121907
CREATED:20251212T235653Z
LAST-MODIFIED:20251213T004448Z
UID:10000693-1777230000-1777237200@crescentlounge.co.uk
SUMMARY:Sunday Sessions
DESCRIPTION:Relax into your Sunday evening with our\, weekly Acoustic Sunday Sessions slot from  7 – 9pm! \nWith a laid-back atmosphere perfect for winding down your weekend and a different guest artist every week. Join us for a chilled\, intimate gig with great music\, good company\, and delicious drinks to help you make the most of your Sunday afternoon. Home-made food is on offer until 9pm!
URL:https://crescentlounge.co.uk/event/sunday-sessions/2026-04-26/
LOCATION:The Crescent Lounge\, The Crescent Lounge\, Scarborough\, North Yorkshire\, YO11 2PW\, United Kingdom
CATEGORIES:Live Music
ATTACH;FMTTYPE=image/png:https://crescentlounge.co.uk/wp-content/uploads/2025/12/Sunday-Sessions.png
END:VEVENT
BEGIN:VEVENT
DTSTART;TZID=UTC:20260510T190000
DTEND;TZID=UTC:20260510T210000
DTSTAMP:20260422T121907
CREATED:20251212T235653Z
LAST-MODIFIED:20251213T004448Z
UID:10000694-1778439600-1778446800@crescentlounge.co.uk
SUMMARY:Sunday Sessions
DESCRIPTION:Relax into your Sunday evening with our\, weekly Acoustic Sunday Sessions slot from  7 – 9pm! \nWith a laid-back atmosphere perfect for winding down your weekend and a different guest artist every week. Join us for a chilled\, intimate gig with great music\, good company\, and delicious drinks to help you make the most of your Sunday afternoon. Home-made food is on offer until 9pm!
URL:https://crescentlounge.co.uk/event/sunday-sessions/2026-05-10/
LOCATION:The Crescent Lounge\, The Crescent Lounge\, Scarborough\, North Yorkshire\, YO11 2PW\, United Kingdom
CATEGORIES:Live Music
ATTACH;FMTTYPE=image/png:https://crescentlounge.co.uk/wp-content/uploads/2025/12/Sunday-Sessions.png
END:VEVENT
BEGIN:VEVENT
DTSTART;TZID=UTC:20260517T190000
DTEND;TZID=UTC:20260517T210000
DTSTAMP:20260422T121907
CREATED:20251212T235653Z
LAST-MODIFIED:20251213T004448Z
UID:10000695-1779044400-1779051600@crescentlounge.co.uk
SUMMARY:Sunday Sessions
DESCRIPTION:Relax into your Sunday evening with our\, weekly Acoustic Sunday Sessions slot from  7 – 9pm! \nWith a laid-back atmosphere perfect for winding down your weekend and a different guest artist every week. Join us for a chilled\, intimate gig with great music\, good company\, and delicious drinks to help you make the most of your Sunday afternoon. Home-made food is on offer until 9pm!
URL:https://crescentlounge.co.uk/event/sunday-sessions/2026-05-17/
LOCATION:The Crescent Lounge\, The Crescent Lounge\, Scarborough\, North Yorkshire\, YO11 2PW\, United Kingdom
CATEGORIES:Live Music
ATTACH;FMTTYPE=image/png:https://crescentlounge.co.uk/wp-content/uploads/2025/12/Sunday-Sessions.png
END:VEVENT
BEGIN:VEVENT
DTSTART;TZID=UTC:20260524T190000
DTEND;TZID=UTC:20260524T210000
DTSTAMP:20260422T121907
CREATED:20251212T235653Z
LAST-MODIFIED:20251213T004448Z
UID:10000696-1779649200-1779656400@crescentlounge.co.uk
SUMMARY:Sunday Sessions
DESCRIPTION:Relax into your Sunday evening with our\, weekly Acoustic Sunday Sessions slot from  7 – 9pm! \nWith a laid-back atmosphere perfect for winding down your weekend and a different guest artist every week. Join us for a chilled\, intimate gig with great music\, good company\, and delicious drinks to help you make the most of your Sunday afternoon. Home-made food is on offer until 9pm!
URL:https://crescentlounge.co.uk/event/sunday-sessions/2026-05-24/
LOCATION:The Crescent Lounge\, The Crescent Lounge\, Scarborough\, North Yorkshire\, YO11 2PW\, United Kingdom
CATEGORIES:Live Music
ATTACH;FMTTYPE=image/png:https://crescentlounge.co.uk/wp-content/uploads/2025/12/Sunday-Sessions.png
END:VEVENT
BEGIN:VEVENT
DTSTART;TZID=UTC:20260531T190000
DTEND;TZID=UTC:20260531T210000
DTSTAMP:20260422T121907
CREATED:20251212T235653Z
LAST-MODIFIED:20251213T004448Z
UID:10000697-1780254000-1780261200@crescentlounge.co.uk
SUMMARY:Sunday Sessions
DESCRIPTION:Relax into your Sunday evening with our\, weekly Acoustic Sunday Sessions slot from  7 – 9pm! \nWith a laid-back atmosphere perfect for winding down your weekend and a different guest artist every week. Join us for a chilled\, intimate gig with great music\, good company\, and delicious drinks to help you make the most of your Sunday afternoon. Home-made food is on offer until 9pm!
URL:https://crescentlounge.co.uk/event/sunday-sessions/2026-05-31/
LOCATION:The Crescent Lounge\, The Crescent Lounge\, Scarborough\, North Yorkshire\, YO11 2PW\, United Kingdom
CATEGORIES:Live Music
ATTACH;FMTTYPE=image/png:https://crescentlounge.co.uk/wp-content/uploads/2025/12/Sunday-Sessions.png
END:VEVENT
BEGIN:VEVENT
DTSTART;TZID=UTC:20260614T190000
DTEND;TZID=UTC:20260614T210000
DTSTAMP:20260422T121907
CREATED:20251212T235653Z
LAST-MODIFIED:20251213T004448Z
UID:10000698-1781463600-1781470800@crescentlounge.co.uk
SUMMARY:Sunday Sessions
DESCRIPTION:Relax into your Sunday evening with our\, weekly Acoustic Sunday Sessions slot from  7 – 9pm! \nWith a laid-back atmosphere perfect for winding down your weekend and a different guest artist every week. Join us for a chilled\, intimate gig with great music\, good company\, and delicious drinks to help you make the most of your Sunday afternoon. Home-made food is on offer until 9pm!
URL:https://crescentlounge.co.uk/event/sunday-sessions/2026-06-14/
LOCATION:The Crescent Lounge\, The Crescent Lounge\, Scarborough\, North Yorkshire\, YO11 2PW\, United Kingdom
CATEGORIES:Live Music
ATTACH;FMTTYPE=image/png:https://crescentlounge.co.uk/wp-content/uploads/2025/12/Sunday-Sessions.png
END:VEVENT
BEGIN:VEVENT
DTSTART;TZID=UTC:20260621T190000
DTEND;TZID=UTC:20260621T210000
DTSTAMP:20260422T121907
CREATED:20251212T235653Z
LAST-MODIFIED:20251213T004448Z
UID:10000699-1782068400-1782075600@crescentlounge.co.uk
SUMMARY:Sunday Sessions
DESCRIPTION:Relax into your Sunday evening with our\, weekly Acoustic Sunday Sessions slot from  7 – 9pm! \nWith a laid-back atmosphere perfect for winding down your weekend and a different guest artist every week. Join us for a chilled\, intimate gig with great music\, good company\, and delicious drinks to help you make the most of your Sunday afternoon. Home-made food is on offer until 9pm!
URL:https://crescentlounge.co.uk/event/sunday-sessions/2026-06-21/
LOCATION:The Crescent Lounge\, The Crescent Lounge\, Scarborough\, North Yorkshire\, YO11 2PW\, United Kingdom
CATEGORIES:Live Music
ATTACH;FMTTYPE=image/png:https://crescentlounge.co.uk/wp-content/uploads/2025/12/Sunday-Sessions.png
END:VEVENT
BEGIN:VEVENT
DTSTART;TZID=UTC:20260628T190000
DTEND;TZID=UTC:20260628T210000
DTSTAMP:20260422T121907
CREATED:20251212T235653Z
LAST-MODIFIED:20251213T004448Z
UID:10000700-1782673200-1782680400@crescentlounge.co.uk
SUMMARY:Sunday Sessions
DESCRIPTION:Relax into your Sunday evening with our\, weekly Acoustic Sunday Sessions slot from  7 – 9pm! \nWith a laid-back atmosphere perfect for winding down your weekend and a different guest artist every week. Join us for a chilled\, intimate gig with great music\, good company\, and delicious drinks to help you make the most of your Sunday afternoon. Home-made food is on offer until 9pm!
URL:https://crescentlounge.co.uk/event/sunday-sessions/2026-06-28/
LOCATION:The Crescent Lounge\, The Crescent Lounge\, Scarborough\, North Yorkshire\, YO11 2PW\, United Kingdom
CATEGORIES:Live Music
ATTACH;FMTTYPE=image/png:https://crescentlounge.co.uk/wp-content/uploads/2025/12/Sunday-Sessions.png
END:VEVENT
BEGIN:VEVENT
DTSTART;TZID=UTC:20260712T190000
DTEND;TZID=UTC:20260712T210000
DTSTAMP:20260422T121907
CREATED:20251212T235653Z
LAST-MODIFIED:20251213T004448Z
UID:10000701-1783882800-1783890000@crescentlounge.co.uk
SUMMARY:Sunday Sessions
DESCRIPTION:Relax into your Sunday evening with our\, weekly Acoustic Sunday Sessions slot from  7 – 9pm! \nWith a laid-back atmosphere perfect for winding down your weekend and a different guest artist every week. Join us for a chilled\, intimate gig with great music\, good company\, and delicious drinks to help you make the most of your Sunday afternoon. Home-made food is on offer until 9pm!
URL:https://crescentlounge.co.uk/event/sunday-sessions/2026-07-12/
LOCATION:The Crescent Lounge\, The Crescent Lounge\, Scarborough\, North Yorkshire\, YO11 2PW\, United Kingdom
CATEGORIES:Live Music
ATTACH;FMTTYPE=image/png:https://crescentlounge.co.uk/wp-content/uploads/2025/12/Sunday-Sessions.png
END:VEVENT
BEGIN:VEVENT
DTSTART;TZID=UTC:20260719T190000
DTEND;TZID=UTC:20260719T210000
DTSTAMP:20260422T121907
CREATED:20251212T235653Z
LAST-MODIFIED:20251213T004448Z
UID:10000702-1784487600-1784494800@crescentlounge.co.uk
SUMMARY:Sunday Sessions
DESCRIPTION:Relax into your Sunday evening with our\, weekly Acoustic Sunday Sessions slot from  7 – 9pm! \nWith a laid-back atmosphere perfect for winding down your weekend and a different guest artist every week. Join us for a chilled\, intimate gig with great music\, good company\, and delicious drinks to help you make the most of your Sunday afternoon. Home-made food is on offer until 9pm!
URL:https://crescentlounge.co.uk/event/sunday-sessions/2026-07-19/
LOCATION:The Crescent Lounge\, The Crescent Lounge\, Scarborough\, North Yorkshire\, YO11 2PW\, United Kingdom
CATEGORIES:Live Music
ATTACH;FMTTYPE=image/png:https://crescentlounge.co.uk/wp-content/uploads/2025/12/Sunday-Sessions.png
END:VEVENT
BEGIN:VEVENT
DTSTART;TZID=UTC:20260726T190000
DTEND;TZID=UTC:20260726T210000
DTSTAMP:20260422T121907
CREATED:20251212T235653Z
LAST-MODIFIED:20251213T004448Z
UID:10000703-1785092400-1785099600@crescentlounge.co.uk
SUMMARY:Sunday Sessions
DESCRIPTION:Relax into your Sunday evening with our\, weekly Acoustic Sunday Sessions slot from  7 – 9pm! \nWith a laid-back atmosphere perfect for winding down your weekend and a different guest artist every week. Join us for a chilled\, intimate gig with great music\, good company\, and delicious drinks to help you make the most of your Sunday afternoon. Home-made food is on offer until 9pm!
URL:https://crescentlounge.co.uk/event/sunday-sessions/2026-07-26/
LOCATION:The Crescent Lounge\, The Crescent Lounge\, Scarborough\, North Yorkshire\, YO11 2PW\, United Kingdom
CATEGORIES:Live Music
ATTACH;FMTTYPE=image/png:https://crescentlounge.co.uk/wp-content/uploads/2025/12/Sunday-Sessions.png
END:VEVENT
BEGIN:VEVENT
DTSTART;TZID=UTC:20260809T190000
DTEND;TZID=UTC:20260809T210000
DTSTAMP:20260422T121907
CREATED:20251212T235653Z
LAST-MODIFIED:20251213T004448Z
UID:10000704-1786302000-1786309200@crescentlounge.co.uk
SUMMARY:Sunday Sessions
DESCRIPTION:Relax into your Sunday evening with our\, weekly Acoustic Sunday Sessions slot from  7 – 9pm! \nWith a laid-back atmosphere perfect for winding down your weekend and a different guest artist every week. Join us for a chilled\, intimate gig with great music\, good company\, and delicious drinks to help you make the most of your Sunday afternoon. Home-made food is on offer until 9pm!
URL:https://crescentlounge.co.uk/event/sunday-sessions/2026-08-09/
LOCATION:The Crescent Lounge\, The Crescent Lounge\, Scarborough\, North Yorkshire\, YO11 2PW\, United Kingdom
CATEGORIES:Live Music
ATTACH;FMTTYPE=image/png:https://crescentlounge.co.uk/wp-content/uploads/2025/12/Sunday-Sessions.png
END:VEVENT
BEGIN:VEVENT
DTSTART;TZID=UTC:20260816T190000
DTEND;TZID=UTC:20260816T210000
DTSTAMP:20260422T121907
CREATED:20251212T235653Z
LAST-MODIFIED:20251213T004448Z
UID:10000705-1786906800-1786914000@crescentlounge.co.uk
SUMMARY:Sunday Sessions
DESCRIPTION:Relax into your Sunday evening with our\, weekly Acoustic Sunday Sessions slot from  7 – 9pm! \nWith a laid-back atmosphere perfect for winding down your weekend and a different guest artist every week. Join us for a chilled\, intimate gig with great music\, good company\, and delicious drinks to help you make the most of your Sunday afternoon. Home-made food is on offer until 9pm!
URL:https://crescentlounge.co.uk/event/sunday-sessions/2026-08-16/
LOCATION:The Crescent Lounge\, The Crescent Lounge\, Scarborough\, North Yorkshire\, YO11 2PW\, United Kingdom
CATEGORIES:Live Music
ATTACH;FMTTYPE=image/png:https://crescentlounge.co.uk/wp-content/uploads/2025/12/Sunday-Sessions.png
END:VEVENT
BEGIN:VEVENT
DTSTART;TZID=UTC:20260823T190000
DTEND;TZID=UTC:20260823T210000
DTSTAMP:20260422T121907
CREATED:20251212T235653Z
LAST-MODIFIED:20251213T004448Z
UID:10000706-1787511600-1787518800@crescentlounge.co.uk
SUMMARY:Sunday Sessions
DESCRIPTION:Relax into your Sunday evening with our\, weekly Acoustic Sunday Sessions slot from  7 – 9pm! \nWith a laid-back atmosphere perfect for winding down your weekend and a different guest artist every week. Join us for a chilled\, intimate gig with great music\, good company\, and delicious drinks to help you make the most of your Sunday afternoon. Home-made food is on offer until 9pm!
URL:https://crescentlounge.co.uk/event/sunday-sessions/2026-08-23/
LOCATION:The Crescent Lounge\, The Crescent Lounge\, Scarborough\, North Yorkshire\, YO11 2PW\, United Kingdom
CATEGORIES:Live Music
ATTACH;FMTTYPE=image/png:https://crescentlounge.co.uk/wp-content/uploads/2025/12/Sunday-Sessions.png
END:VEVENT
BEGIN:VEVENT
DTSTART;TZID=UTC:20260830T190000
DTEND;TZID=UTC:20260830T210000
DTSTAMP:20260422T121907
CREATED:20251212T235653Z
LAST-MODIFIED:20251213T004448Z
UID:10000707-1788116400-1788123600@crescentlounge.co.uk
SUMMARY:Sunday Sessions
DESCRIPTION:Relax into your Sunday evening with our\, weekly Acoustic Sunday Sessions slot from  7 – 9pm! \nWith a laid-back atmosphere perfect for winding down your weekend and a different guest artist every week. Join us for a chilled\, intimate gig with great music\, good company\, and delicious drinks to help you make the most of your Sunday afternoon. Home-made food is on offer until 9pm!
URL:https://crescentlounge.co.uk/event/sunday-sessions/2026-08-30/
LOCATION:The Crescent Lounge\, The Crescent Lounge\, Scarborough\, North Yorkshire\, YO11 2PW\, United Kingdom
CATEGORIES:Live Music
ATTACH;FMTTYPE=image/png:https://crescentlounge.co.uk/wp-content/uploads/2025/12/Sunday-Sessions.png
END:VEVENT
BEGIN:VEVENT
DTSTART;TZID=UTC:20260913T190000
DTEND;TZID=UTC:20260913T210000
DTSTAMP:20260422T121907
CREATED:20251212T235653Z
LAST-MODIFIED:20251213T004448Z
UID:10000708-1789326000-1789333200@crescentlounge.co.uk
SUMMARY:Sunday Sessions
DESCRIPTION:Relax into your Sunday evening with our\, weekly Acoustic Sunday Sessions slot from  7 – 9pm! \nWith a laid-back atmosphere perfect for winding down your weekend and a different guest artist every week. Join us for a chilled\, intimate gig with great music\, good company\, and delicious drinks to help you make the most of your Sunday afternoon. Home-made food is on offer until 9pm!
URL:https://crescentlounge.co.uk/event/sunday-sessions/2026-09-13/
LOCATION:The Crescent Lounge\, The Crescent Lounge\, Scarborough\, North Yorkshire\, YO11 2PW\, United Kingdom
CATEGORIES:Live Music
ATTACH;FMTTYPE=image/png:https://crescentlounge.co.uk/wp-content/uploads/2025/12/Sunday-Sessions.png
END:VEVENT
BEGIN:VEVENT
DTSTART;TZID=UTC:20260920T190000
DTEND;TZID=UTC:20260920T210000
DTSTAMP:20260422T121907
CREATED:20251212T235653Z
LAST-MODIFIED:20251213T004448Z
UID:10000709-1789930800-1789938000@crescentlounge.co.uk
SUMMARY:Sunday Sessions
DESCRIPTION:Relax into your Sunday evening with our\, weekly Acoustic Sunday Sessions slot from  7 – 9pm! \nWith a laid-back atmosphere perfect for winding down your weekend and a different guest artist every week. Join us for a chilled\, intimate gig with great music\, good company\, and delicious drinks to help you make the most of your Sunday afternoon. Home-made food is on offer until 9pm!
URL:https://crescentlounge.co.uk/event/sunday-sessions/2026-09-20/
LOCATION:The Crescent Lounge\, The Crescent Lounge\, Scarborough\, North Yorkshire\, YO11 2PW\, United Kingdom
CATEGORIES:Live Music
ATTACH;FMTTYPE=image/png:https://crescentlounge.co.uk/wp-content/uploads/2025/12/Sunday-Sessions.png
END:VEVENT
BEGIN:VEVENT
DTSTART;TZID=UTC:20260927T190000
DTEND;TZID=UTC:20260927T210000
DTSTAMP:20260422T121907
CREATED:20251212T235653Z
LAST-MODIFIED:20251213T004448Z
UID:10000710-1790535600-1790542800@crescentlounge.co.uk
SUMMARY:Sunday Sessions
DESCRIPTION:Relax into your Sunday evening with our\, weekly Acoustic Sunday Sessions slot from  7 – 9pm! \nWith a laid-back atmosphere perfect for winding down your weekend and a different guest artist every week. Join us for a chilled\, intimate gig with great music\, good company\, and delicious drinks to help you make the most of your Sunday afternoon. Home-made food is on offer until 9pm!
URL:https://crescentlounge.co.uk/event/sunday-sessions/2026-09-27/
LOCATION:The Crescent Lounge\, The Crescent Lounge\, Scarborough\, North Yorkshire\, YO11 2PW\, United Kingdom
CATEGORIES:Live Music
ATTACH;FMTTYPE=image/png:https://crescentlounge.co.uk/wp-content/uploads/2025/12/Sunday-Sessions.png
END:VEVENT
BEGIN:VEVENT
DTSTART;TZID=UTC:20261011T190000
DTEND;TZID=UTC:20261011T210000
DTSTAMP:20260422T121907
CREATED:20251212T235653Z
LAST-MODIFIED:20251213T004448Z
UID:10000711-1791745200-1791752400@crescentlounge.co.uk
SUMMARY:Sunday Sessions
DESCRIPTION:Relax into your Sunday evening with our\, weekly Acoustic Sunday Sessions slot from  7 – 9pm! \nWith a laid-back atmosphere perfect for winding down your weekend and a different guest artist every week. Join us for a chilled\, intimate gig with great music\, good company\, and delicious drinks to help you make the most of your Sunday afternoon. Home-made food is on offer until 9pm!
URL:https://crescentlounge.co.uk/event/sunday-sessions/2026-10-11/
LOCATION:The Crescent Lounge\, The Crescent Lounge\, Scarborough\, North Yorkshire\, YO11 2PW\, United Kingdom
CATEGORIES:Live Music
ATTACH;FMTTYPE=image/png:https://crescentlounge.co.uk/wp-content/uploads/2025/12/Sunday-Sessions.png
END:VEVENT
BEGIN:VEVENT
DTSTART;TZID=UTC:20261018T190000
DTEND;TZID=UTC:20261018T210000
DTSTAMP:20260422T121907
CREATED:20251212T235653Z
LAST-MODIFIED:20251213T004448Z
UID:10000712-1792350000-1792357200@crescentlounge.co.uk
SUMMARY:Sunday Sessions
DESCRIPTION:Relax into your Sunday evening with our\, weekly Acoustic Sunday Sessions slot from  7 – 9pm! \nWith a laid-back atmosphere perfect for winding down your weekend and a different guest artist every week. Join us for a chilled\, intimate gig with great music\, good company\, and delicious drinks to help you make the most of your Sunday afternoon. Home-made food is on offer until 9pm!
URL:https://crescentlounge.co.uk/event/sunday-sessions/2026-10-18/
LOCATION:The Crescent Lounge\, The Crescent Lounge\, Scarborough\, North Yorkshire\, YO11 2PW\, United Kingdom
CATEGORIES:Live Music
ATTACH;FMTTYPE=image/png:https://crescentlounge.co.uk/wp-content/uploads/2025/12/Sunday-Sessions.png
END:VEVENT
BEGIN:VEVENT
DTSTART;TZID=UTC:20261025T190000
DTEND;TZID=UTC:20261025T210000
DTSTAMP:20260422T121907
CREATED:20251212T235653Z
LAST-MODIFIED:20251213T004448Z
UID:10000713-1792954800-1792962000@crescentlounge.co.uk
SUMMARY:Sunday Sessions
DESCRIPTION:Relax into your Sunday evening with our\, weekly Acoustic Sunday Sessions slot from  7 – 9pm! \nWith a laid-back atmosphere perfect for winding down your weekend and a different guest artist every week. Join us for a chilled\, intimate gig with great music\, good company\, and delicious drinks to help you make the most of your Sunday afternoon. Home-made food is on offer until 9pm!
URL:https://crescentlounge.co.uk/event/sunday-sessions/2026-10-25/
LOCATION:The Crescent Lounge\, The Crescent Lounge\, Scarborough\, North Yorkshire\, YO11 2PW\, United Kingdom
CATEGORIES:Live Music
ATTACH;FMTTYPE=image/png:https://crescentlounge.co.uk/wp-content/uploads/2025/12/Sunday-Sessions.png
END:VEVENT
BEGIN:VEVENT
DTSTART;TZID=UTC:20261108T190000
DTEND;TZID=UTC:20261108T210000
DTSTAMP:20260422T121907
CREATED:20251212T235653Z
LAST-MODIFIED:20251213T004448Z
UID:10000714-1794164400-1794171600@crescentlounge.co.uk
SUMMARY:Sunday Sessions
DESCRIPTION:Relax into your Sunday evening with our\, weekly Acoustic Sunday Sessions slot from  7 – 9pm! \nWith a laid-back atmosphere perfect for winding down your weekend and a different guest artist every week. Join us for a chilled\, intimate gig with great music\, good company\, and delicious drinks to help you make the most of your Sunday afternoon. Home-made food is on offer until 9pm!
URL:https://crescentlounge.co.uk/event/sunday-sessions/2026-11-08/
LOCATION:The Crescent Lounge\, The Crescent Lounge\, Scarborough\, North Yorkshire\, YO11 2PW\, United Kingdom
CATEGORIES:Live Music
ATTACH;FMTTYPE=image/png:https://crescentlounge.co.uk/wp-content/uploads/2025/12/Sunday-Sessions.png
END:VEVENT
BEGIN:VEVENT
DTSTART;TZID=UTC:20261115T190000
DTEND;TZID=UTC:20261115T210000
DTSTAMP:20260422T121907
CREATED:20251212T235653Z
LAST-MODIFIED:20251213T004448Z
UID:10000715-1794769200-1794776400@crescentlounge.co.uk
SUMMARY:Sunday Sessions
DESCRIPTION:Relax into your Sunday evening with our\, weekly Acoustic Sunday Sessions slot from  7 – 9pm! \nWith a laid-back atmosphere perfect for winding down your weekend and a different guest artist every week. Join us for a chilled\, intimate gig with great music\, good company\, and delicious drinks to help you make the most of your Sunday afternoon. Home-made food is on offer until 9pm!
URL:https://crescentlounge.co.uk/event/sunday-sessions/2026-11-15/
LOCATION:The Crescent Lounge\, The Crescent Lounge\, Scarborough\, North Yorkshire\, YO11 2PW\, United Kingdom
CATEGORIES:Live Music
ATTACH;FMTTYPE=image/png:https://crescentlounge.co.uk/wp-content/uploads/2025/12/Sunday-Sessions.png
END:VEVENT
BEGIN:VEVENT
DTSTART;TZID=UTC:20261122T190000
DTEND;TZID=UTC:20261122T210000
DTSTAMP:20260422T121907
CREATED:20251212T235653Z
LAST-MODIFIED:20251213T004448Z
UID:10000716-1795374000-1795381200@crescentlounge.co.uk
SUMMARY:Sunday Sessions
DESCRIPTION:Relax into your Sunday evening with our\, weekly Acoustic Sunday Sessions slot from  7 – 9pm! \nWith a laid-back atmosphere perfect for winding down your weekend and a different guest artist every week. Join us for a chilled\, intimate gig with great music\, good company\, and delicious drinks to help you make the most of your Sunday afternoon. Home-made food is on offer until 9pm!
URL:https://crescentlounge.co.uk/event/sunday-sessions/2026-11-22/
LOCATION:The Crescent Lounge\, The Crescent Lounge\, Scarborough\, North Yorkshire\, YO11 2PW\, United Kingdom
CATEGORIES:Live Music
ATTACH;FMTTYPE=image/png:https://crescentlounge.co.uk/wp-content/uploads/2025/12/Sunday-Sessions.png
END:VEVENT
BEGIN:VEVENT
DTSTART;TZID=UTC:20261129T190000
DTEND;TZID=UTC:20261129T210000
DTSTAMP:20260422T121907
CREATED:20251212T235653Z
LAST-MODIFIED:20251213T004448Z
UID:10000717-1795978800-1795986000@crescentlounge.co.uk
SUMMARY:Sunday Sessions
DESCRIPTION:Relax into your Sunday evening with our\, weekly Acoustic Sunday Sessions slot from  7 – 9pm! \nWith a laid-back atmosphere perfect for winding down your weekend and a different guest artist every week. Join us for a chilled\, intimate gig with great music\, good company\, and delicious drinks to help you make the most of your Sunday afternoon. Home-made food is on offer until 9pm!
URL:https://crescentlounge.co.uk/event/sunday-sessions/2026-11-29/
LOCATION:The Crescent Lounge\, The Crescent Lounge\, Scarborough\, North Yorkshire\, YO11 2PW\, United Kingdom
CATEGORIES:Live Music
ATTACH;FMTTYPE=image/png:https://crescentlounge.co.uk/wp-content/uploads/2025/12/Sunday-Sessions.png
END:VEVENT
BEGIN:VEVENT
DTSTART;TZID=UTC:20261213T190000
DTEND;TZID=UTC:20261213T210000
DTSTAMP:20260422T121907
CREATED:20251212T235653Z
LAST-MODIFIED:20251213T004448Z
UID:10000718-1797188400-1797195600@crescentlounge.co.uk
SUMMARY:Sunday Sessions
DESCRIPTION:Relax into your Sunday evening with our\, weekly Acoustic Sunday Sessions slot from  7 – 9pm! \nWith a laid-back atmosphere perfect for winding down your weekend and a different guest artist every week. Join us for a chilled\, intimate gig with great music\, good company\, and delicious drinks to help you make the most of your Sunday afternoon. Home-made food is on offer until 9pm!
URL:https://crescentlounge.co.uk/event/sunday-sessions/2026-12-13/
LOCATION:The Crescent Lounge\, The Crescent Lounge\, Scarborough\, North Yorkshire\, YO11 2PW\, United Kingdom
CATEGORIES:Live Music
ATTACH;FMTTYPE=image/png:https://crescentlounge.co.uk/wp-content/uploads/2025/12/Sunday-Sessions.png
END:VEVENT
BEGIN:VEVENT
DTSTART;TZID=UTC:20261220T190000
DTEND;TZID=UTC:20261220T210000
DTSTAMP:20260422T121907
CREATED:20251212T235653Z
LAST-MODIFIED:20251213T004448Z
UID:10000719-1797793200-1797800400@crescentlounge.co.uk
SUMMARY:Sunday Sessions
DESCRIPTION:Relax into your Sunday evening with our\, weekly Acoustic Sunday Sessions slot from  7 – 9pm! \nWith a laid-back atmosphere perfect for winding down your weekend and a different guest artist every week. Join us for a chilled\, intimate gig with great music\, good company\, and delicious drinks to help you make the most of your Sunday afternoon. Home-made food is on offer until 9pm!
URL:https://crescentlounge.co.uk/event/sunday-sessions/2026-12-20/
LOCATION:The Crescent Lounge\, The Crescent Lounge\, Scarborough\, North Yorkshire\, YO11 2PW\, United Kingdom
CATEGORIES:Live Music
ATTACH;FMTTYPE=image/png:https://crescentlounge.co.uk/wp-content/uploads/2025/12/Sunday-Sessions.png
END:VEVENT
BEGIN:VEVENT
DTSTART;TZID=UTC:20261227T190000
DTEND;TZID=UTC:20261227T210000
DTSTAMP:20260422T121907
CREATED:20251212T235653Z
LAST-MODIFIED:20251213T004448Z
UID:10000720-1798398000-1798405200@crescentlounge.co.uk
SUMMARY:Sunday Sessions
DESCRIPTION:Relax into your Sunday evening with our\, weekly Acoustic Sunday Sessions slot from  7 – 9pm! \nWith a laid-back atmosphere perfect for winding down your weekend and a different guest artist every week. Join us for a chilled\, intimate gig with great music\, good company\, and delicious drinks to help you make the most of your Sunday afternoon. Home-made food is on offer until 9pm!
URL:https://crescentlounge.co.uk/event/sunday-sessions/2026-12-27/
LOCATION:The Crescent Lounge\, The Crescent Lounge\, Scarborough\, North Yorkshire\, YO11 2PW\, United Kingdom
CATEGORIES:Live Music
ATTACH;FMTTYPE=image/png:https://crescentlounge.co.uk/wp-content/uploads/2025/12/Sunday-Sessions.png
END:VEVENT
BEGIN:VEVENT
DTSTART;TZID=UTC:20270110T190000
DTEND;TZID=UTC:20270110T210000
DTSTAMP:20260422T121907
CREATED:20251212T235653Z
LAST-MODIFIED:20251213T004448Z
UID:10000721-1799607600-1799614800@crescentlounge.co.uk
SUMMARY:Sunday Sessions
DESCRIPTION:Relax into your Sunday evening with our\, weekly Acoustic Sunday Sessions slot from  7 – 9pm! \nWith a laid-back atmosphere perfect for winding down your weekend and a different guest artist every week. Join us for a chilled\, intimate gig with great music\, good company\, and delicious drinks to help you make the most of your Sunday afternoon. Home-made food is on offer until 9pm!
URL:https://crescentlounge.co.uk/event/sunday-sessions/2027-01-10/
LOCATION:The Crescent Lounge\, The Crescent Lounge\, Scarborough\, North Yorkshire\, YO11 2PW\, United Kingdom
CATEGORIES:Live Music
ATTACH;FMTTYPE=image/png:https://crescentlounge.co.uk/wp-content/uploads/2025/12/Sunday-Sessions.png
END:VEVENT
BEGIN:VEVENT
DTSTART;TZID=UTC:20270117T190000
DTEND;TZID=UTC:20270117T210000
DTSTAMP:20260422T121907
CREATED:20251212T235653Z
LAST-MODIFIED:20251213T004448Z
UID:10000722-1800212400-1800219600@crescentlounge.co.uk
SUMMARY:Sunday Sessions
DESCRIPTION:Relax into your Sunday evening with our\, weekly Acoustic Sunday Sessions slot from  7 – 9pm! \nWith a laid-back atmosphere perfect for winding down your weekend and a different guest artist every week. Join us for a chilled\, intimate gig with great music\, good company\, and delicious drinks to help you make the most of your Sunday afternoon. Home-made food is on offer until 9pm!
URL:https://crescentlounge.co.uk/event/sunday-sessions/2027-01-17/
LOCATION:The Crescent Lounge\, The Crescent Lounge\, Scarborough\, North Yorkshire\, YO11 2PW\, United Kingdom
CATEGORIES:Live Music
ATTACH;FMTTYPE=image/png:https://crescentlounge.co.uk/wp-content/uploads/2025/12/Sunday-Sessions.png
END:VEVENT
END:VCALENDAR