BEGIN:VCALENDAR
VERSION:2.0
PRODID:-//The Crescent Bar - ECPv6.15.20//NONSGML v1.0//EN
CALSCALE:GREGORIAN
METHOD:PUBLISH
X-ORIGINAL-URL:https://crescentlounge.co.uk
X-WR-CALDESC:Events for The Crescent Bar
REFRESH-INTERVAL;VALUE=DURATION:PT1H
X-Robots-Tag:noindex
X-PUBLISHED-TTL:PT1H
BEGIN:VTIMEZONE
TZID:UTC
BEGIN:STANDARD
TZOFFSETFROM:+0000
TZOFFSETTO:+0000
TZNAME:UTC
DTSTART:20240101T000000
END:STANDARD
END:VTIMEZONE
BEGIN:VEVENT
DTSTART;TZID=UTC:20251025T200000
DTEND;TZID=UTC:20251025T230000
DTSTAMP:20260423T010348
CREATED:20250428T100045Z
LAST-MODIFIED:20250416T234620Z
UID:10000634-1761422400-1761433200@crescentlounge.co.uk
SUMMARY:Martin McAloon - Two Wheels Good Tour
DESCRIPTION:Martin McAloon of Prefab Sprout – Two Wheels Good Tour \nA 40th anniversary celebration of Steve McQueen \nTo celebrate the 40th anniversary of the release of Prefab Sprout’s seminal album Steve McQueen\, founding member Martin McAloon will be touring the whole album in 2025. “I can’t wait to take the full album out on the road\, there’s still a lot of love for those songs – that’s the triumph of Steve McQueen”. Known as Two Wheels Good in the USA the album includes the hits; When Love Breaks Down\, Faron Young\, Appetite\, Johnny\, Johnny & Moving the River. Steve McQueen went on to sell millions of records worldwide and was included in the NME’s 100 greatest albums of all time. He will also be playing other hits from across his brother Paddy’s catalogue of exceptional songs.
URL:https://crescentlounge.co.uk/event/martin-mcaloon-two-wheels-good-tour/
LOCATION:The Crescent Lounge\, The Crescent Lounge\, Scarborough\, North Yorkshire\, YO11 2PW\, United Kingdom
CATEGORIES:Live Music
ATTACH;FMTTYPE=image/jpeg:https://crescentlounge.co.uk/wp-content/uploads/2025/04/Martin-Mcaloon-ig.jpg
END:VEVENT
BEGIN:VEVENT
DTSTART;TZID=UTC:20251009T200000
DTEND;TZID=UTC:20251009T233000
DTSTAMP:20260423T010348
CREATED:20250228T100019Z
LAST-MODIFIED:20250326T011945Z
UID:10000044-1760040000-1760052600@crescentlounge.co.uk
SUMMARY:Bez - In Conversation Tour
DESCRIPTION:The Nine Lives of a Happy Monday \nMark Berry (Bez) was born in Bolton\, the son of parents from the Norris Green district of Liverpool. His father was a detective inspector. \nBez first came to prominence at the turn-of-the-1990’s as the maraca-wielding dancer with ‘Madchester’ giants Happy Mondays. Neither an accomplished musician nor even a very good dancer\, Bez was a prime candidate for fleeting celebrity\, soon to sink into ‘Where Are They Now?’ obscurity. \nThat\, however\, never happened\, nor does it show any sign of happening. Through Black Grape\, the second band he co-fronted with the Mondays’ Shaun Ryder\, and his ever-presence in the mass media\, (Gogglebox\, MasterChef\, Celebrity Big Brother\, and Dancing on Ice) Bez’s popularity has grown exponentially\, his star rocketing ever upwards! \nWhen he bowled into Celebrity Big Brother in 2005\, he ended up winning the series\, as viewers came to understand his fundamental decency and sunny outlook. His adult life has been extraordinary: unbelievable scrapes with mortality\, periods of financial ruin\, and narcotic-strewn hi-jinks. \nJoin Bez\, as he talks about his extraordinary life and career\, the story of a bad lad who has turned his life good\, tracing his passage from twenty- thirty-something casualty to middle-aged politician\, eco-warrior\, and bee-aficionado. \nThis is an event not to be missed!
URL:https://crescentlounge.co.uk/event/bez-in-conversation-tour/
LOCATION:The Crescent Lounge\, The Crescent Lounge\, Scarborough\, North Yorkshire\, YO11 2PW\, United Kingdom
CATEGORIES:In conversation with...
ATTACH;FMTTYPE=image/jpeg:https://crescentlounge.co.uk/wp-content/uploads/2025/02/Bez-image.jpg
END:VEVENT
BEGIN:VEVENT
DTSTART;TZID=UTC:20250315T190000
DTEND;TZID=UTC:20250315T233000
DTSTAMP:20260423T010348
CREATED:20241111T151856Z
LAST-MODIFIED:20241111T163646Z
UID:10000005-1742065200-1742081400@crescentlounge.co.uk
SUMMARY:The Real People
DESCRIPTION:The Real People\nThe Real People\, pioneers of the 90’s Brit pop movement\, were formed by Tony and Chris Griffiths in 1988. Signed to CBS in Dec 1989 they released their eponymously named debut album including the singles Window Pane\, Open Up Your Mind and The Truth in 1991. \n  \nThe band then embarked on a series of successful British\, European\, American and Japanese tours\, also appearing at Glastonbury and supporting major artists such as The Pixies\, David Bowie and Inspiral Carpets to name a few. The Realies (as they are known to their fans) then recorded their second album Marshmallow Lane with the help of legendary producer Jimmy Miller (Rolling Stones etc). This album provided the Top 40 single ‘Believer’. Whilst touring with Inspiral Carpets\, Chris and Tony took the then Inspirals roadie Noel Gallagher under their wing\, along with his brother Liam and the rest of Oasis. The Real People invited Oasis into their studio to develop and record the new band\, resulting in the now famous Live Demonstration Tape which subsequently secured them a major deal with Alan McGee and Creation Records. Once signed by Creation\, Chris and Tony were instrumental in the recording of Oasis’ first single ‘Supersonic’\, with Tony providing the backing vocals. Chris also co-wrote the B-side to ‘Roll With It’ entitled ‘Rockin’ Chair’ which helped set Oasis on the path to becoming world wide stars and the biggest band of the past 30 years. The Real People also inspired several other Oasis songs such as ‘Columbia’ and ‘Don’t Go Away’ (a BBC News item about the relationship between the The Realies and Oasis is attached below). https://www.bbc.co.uk/news/articles/cp9rmxlve9ko  \n  \n  \n			\n				\n				\n				\n				\n				Around this time Chris and Tony continued writing and developing other artists – including writing a Top 10 single for Cher and others. In 1996 The Real People signed to MGL Records and released their third album ‘What’s On The Outside’ which included the singles ‘Rolling Stone’\, ‘Rayners Lane’ and ’People In The Telly’. The band also embarked on tours including numerous tours with their good friends Ocean Colour Scene\, Paul Weller and Simple Minds. The Real People continued writing and touring for the next few years resulting in their now cult following and new albums ’Think Positive’ and ‘Monday Morning Breakdown’. \nThe Realies continue to write\, record and tour and this forthcoming tour ‘An Evening With….’ provides a very rare chance for fans old and new to see them perform their back catalogue in stripped down acoustic versions and hear some of the stories behind the songs. If you haven’t heard The Realies before\, you really should. But don’t take my word for it – please read recent Jon Robb article (link attached) setting out why The Real People are one of the most respected and influential bands of the past 35 years. https://louderthanwar.com/the-real-people-live-review/#google_vignette \n  \n  \n 
URL:https://crescentlounge.co.uk/event/the-real-people/
LOCATION:The Crescent Lounge\, The Crescent Lounge\, Scarborough\, North Yorkshire\, YO11 2PW\, United Kingdom
CATEGORIES:Live Music
ATTACH;FMTTYPE=image/png:https://crescentlounge.co.uk/wp-content/uploads/2024/11/Screenshot-2024-11-11-at-15.18.28.png
END:VEVENT
END:VCALENDAR